BEGIN:VCALENDAR
VERSION:2.0
PRODID:-//91.233.84.75//NONSGML kigkonsult.se iCalcreator 2.24//
CALSCALE:GREGORIAN
METHOD:PUBLISH
X-WR-TIMEZONE:Europe/Berlin
BEGIN:VTIMEZONE
TZID:Europe/Berlin
X-LIC-LOCATION:Europe/Berlin
BEGIN:STANDARD
DTSTART:19701025T030000
TZOFFSETFROM:+0200
TZOFFSETTO:+0100
TZNAME:CET
END:STANDARD
BEGIN:DAYLIGHT
DTSTART:19700329T020000
TZOFFSETFROM:+0100
TZOFFSETTO:+0200
TZNAME:CEST
END:DAYLIGHT
END:VTIMEZONE
BEGIN:VEVENT
UID:20260421T164700CEST-8400b95f91@91.233.84.75
DTSTAMP:20260421T144700Z
DESCRIPTION:Konzert mit Werken von G. Ph. Telemann\, F. Schwenk und M. Arno
 ld\nDaniel Marx\, GitarreRainer Seidel\, Fagott
DTSTART:20210812T190000
DTEND:20210812T190000
GEO:+49.954149;+11.592844
LOCATION:Ordenskirche St. Georgen\, St. Georgen 50\, 95448 Bayreuth\, Deuts
 chland
SUMMARY:A walk through the centuries.
URL:https://www.youngartistsbayreuth.de/en/event/a-walk-through-the-centuri
 es-12-08-2021-19-00.html
X-APPLE-STRUCTURED-LOCATION;VALUE=URI;X-ADDRESS="St. Georgen 50, Bayreuth, 
 95448, Deutschland";X-APPLE-RADIUS=100;X-TITLE=A walk through the centurie
 s.:GEO:49.9541493\,11.5928437
END:VEVENT
END:VCALENDAR
