BEGIN:VCALENDAR
VERSION:2.0
PRODID:-//91.233.84.75//NONSGML kigkonsult.se iCalcreator 2.24//
CALSCALE:GREGORIAN
METHOD:PUBLISH
X-WR-TIMEZONE:Europe/Berlin
BEGIN:VTIMEZONE
TZID:Europe/Berlin
X-LIC-LOCATION:Europe/Berlin
BEGIN:STANDARD
DTSTART:19701025T030000
TZOFFSETFROM:+0200
TZOFFSETTO:+0100
TZNAME:CET
END:STANDARD
BEGIN:DAYLIGHT
DTSTART:19700329T020000
TZOFFSETFROM:+0100
TZOFFSETTO:+0200
TZNAME:CEST
END:DAYLIGHT
END:VTIMEZONE
BEGIN:VEVENT
UID:20260421T162758CEST-072165a482@91.233.84.75
DTSTAMP:20260421T142758Z
DESCRIPTION:Konzert mit Werken vom Barock bis in die Gegenwart\nDuo Fellie 
 im Rahmen des 71. Festival junger Künstler BayreuthEllie Harrison\, ViolaJ
 oão Filipe Pereira Brito\, Violoncello
DTSTART:20210812T190000
DTEND:20210812T190000
GEO:+49.42621;+12.480818
LOCATION:Thammer Haus\, Marktplatz 5\, 92559 Winklarn\, Deutschland
SUMMARY:ABGESAGT - Eine Odyssee durch die Zeit
URL:https://www.youngartistsbayreuth.de/en/event/abgesagt-eine-odyssee-durc
 h-die-zeit-12-08-2021-19-00.html
X-APPLE-STRUCTURED-LOCATION;VALUE=URI;X-ADDRESS="Marktplatz 5, Winklarn, 92
 559, Deutschland";X-APPLE-RADIUS=100;X-TITLE=ABGESAGT - Eine Odyssee durch
  die Zeit:GEO:49.4262102\,12.480818
END:VEVENT
END:VCALENDAR
