BEGIN:VCALENDAR
VERSION:2.0
PRODID:-//91.233.84.75//NONSGML kigkonsult.se iCalcreator 2.24//
CALSCALE:GREGORIAN
METHOD:PUBLISH
X-WR-TIMEZONE:Europe/Berlin
BEGIN:VTIMEZONE
TZID:Europe/Berlin
X-LIC-LOCATION:Europe/Berlin
BEGIN:STANDARD
DTSTART:19701025T030000
TZOFFSETFROM:+0200
TZOFFSETTO:+0100
TZNAME:CET
END:STANDARD
BEGIN:DAYLIGHT
DTSTART:19700329T020000
TZOFFSETFROM:+0100
TZOFFSETTO:+0200
TZNAME:CEST
END:DAYLIGHT
END:VTIMEZONE
BEGIN:VEVENT
UID:20260421T164021CEST-555734e889@91.233.84.75
DTSTAMP:20260421T144021Z
DESCRIPTION:Diese Veranstaltung wurde abgesagt.\n \nDas Kiryat Ono Orcheste
 r aus Israel\nDirigent: Guy Feder
DTSTART:20210815T110000
DTEND:20210815T110000
GEO:+49.946313;+11.601495
LOCATION:Seebühne in der Wilhelminenaue\, Äußere Badstraße 27\, 95448 Bayre
 uth\, Deutschland
SUMMARY:ABGESAGT - Matinee: Heitere Sommermusiken
URL:https://www.youngartistsbayreuth.de/en/event/abgesagt-matinee-heitere-s
 ommermusiken-15-08-2021-11-00.html
X-APPLE-STRUCTURED-LOCATION;VALUE=URI;X-ADDRESS="Äußere Badstraße 27, Bayre
 uth, 95448, Deutschland";X-APPLE-RADIUS=100;X-TITLE="ABGESAGT - Matinee: H
 eitere Sommermusiken":GEO:49.946313\,11.601495
END:VEVENT
END:VCALENDAR
