BEGIN:VCALENDAR
VERSION:2.0
PRODID:-//91.233.84.75//NONSGML kigkonsult.se iCalcreator 2.24//
CALSCALE:GREGORIAN
METHOD:PUBLISH
X-WR-TIMEZONE:Europe/Berlin
BEGIN:VTIMEZONE
TZID:Europe/Berlin
X-LIC-LOCATION:Europe/Berlin
BEGIN:STANDARD
DTSTART:19701025T030000
TZOFFSETFROM:+0200
TZOFFSETTO:+0100
TZNAME:CET
END:STANDARD
BEGIN:DAYLIGHT
DTSTART:19700329T020000
TZOFFSETFROM:+0100
TZOFFSETTO:+0200
TZNAME:CEST
END:DAYLIGHT
END:VTIMEZONE
BEGIN:VEVENT
UID:20260421T145714CEST-00464d6e57@91.233.84.75
DTSTAMP:20260421T125714Z
DESCRIPTION:Durchgeführt vom  Rotary Club Bayreuth-Eremitage und gefördert 
 durch Rotary Club Auerbach und dem Rotary Club Hof.\nZum dritten Male find
 et in diesem Jahr die  internationale Gesangs-MasterClass statt\, die von 
 den Rotary Clubs Bayreuth-Eremitage durchgeführt und vom RC-Herzogenaurach
  großzügig gefördert wird.\nSchwerpunkt der MasterClass ist die profession
 elle Unterrichtung im deutschen Gesangsfach sowie Sprach- und Rollen-Coach
 ing in deutscher Sprache.\nZum Abschluss der intensiven Kurswoche präsenti
 eren die beiden Stipendiaten Lívia Ribeiro (Sopran\, Brasilien) und Asher 
 Reichmann (Tenor\, Australien) die Ergebnisse ihrer Arbeit in einem öffent
 lichen Konzert.\nDer Abend gibt Einblick in die künstlerische Entwicklung 
 der beiden jungen Sängerinnen und Sänger und zeigt die Vielfalt ihres Repe
 rtoires – von der italienischen Oper bis zum deutschen Kunstlied.\nLívia R
 ibeiro\, ausgebildet in São Paulo\, hat bereits auf mehreren Opernbühnen L
 ateinamerikas gesungen. Asher Reichmann stammt aus Melbourne und ist sowoh
 l in Australien als auch zunehmend in Europa erfolgreich.\nDie Masterclass
 25 findet ihre Fortsetzung im Programm des renommierten Festival junger Kü
 nstler Bayreuth und ist Ausdruck internationaler musikalischer Nachwuchsfö
 rderung. Der Auftritt steht allen interessierten Zuhörerinnen und Zuhörern
  offen. Ein Abend für Musikliebhaber und Freunde junger Künstler.\nModerat
 ion des Abends: Stephan Jöris\,\nKlavier: Hans Martin Gräbner
DTSTART:20250808T190000
DTEND:20250808T190000
GEO:+49.939609;+11.57211
LOCATION:Musikhochschule für evangelische Kirchenmusik\, Orgelsaal\, Wilhel
 minenstraße 9\, 95444 Bayreuth\, Deutschland
SUMMARY:Abschlusskonzert der Gesangs-MasterClass 2025 in Bayreuth.
URL:https://www.youngartistsbayreuth.de/de/veranstaltung/abschlusskonzert-d
 er-gesangs-masterclass-2025-in-bayreuth-08-08-2025-19-00.html
X-APPLE-STRUCTURED-LOCATION;VALUE=URI;X-ADDRESS="Wilhelminenstraße 9, Bayre
 uth, 95444, Deutschland";X-APPLE-RADIUS=100;X-TITLE=Abschlusskonzert der G
 esangs-MasterClass 2025 in Bayreuth.:GEO:49.9396086\,11.5721101
END:VEVENT
END:VCALENDAR
