BEGIN:VCALENDAR
VERSION:2.0
PRODID:-//91.233.84.75//NONSGML kigkonsult.se iCalcreator 2.24//
CALSCALE:GREGORIAN
METHOD:PUBLISH
X-WR-TIMEZONE:Europe/Berlin
BEGIN:VTIMEZONE
TZID:Europe/Berlin
X-LIC-LOCATION:Europe/Berlin
BEGIN:STANDARD
DTSTART:19701025T030000
TZOFFSETFROM:+0200
TZOFFSETTO:+0100
TZNAME:CET
END:STANDARD
BEGIN:DAYLIGHT
DTSTART:19700329T020000
TZOFFSETFROM:+0100
TZOFFSETTO:+0200
TZNAME:CEST
END:DAYLIGHT
END:VTIMEZONE
BEGIN:VEVENT
UID:20260421T163743CEST-041618e8ec@91.233.84.75
DTSTAMP:20260421T143743Z
DESCRIPTION:Leitung: Lucrezia Basualdo\, Charlie Stolzenberger
DTSTART:20230805T110000
DTEND:20230805T110000
GEO:+49.94286;+11.5876
LOCATION:DAS ZENTRUM\, Äußere Badstraße 7a\, 95448 Bayreuth\, Deutschland
SUMMARY:Abschlusspräsentation Education-Workshop 2: Szenische Phantasien üb
 er Rachmaninows Sinfonische Tänze
URL:https://www.youngartistsbayreuth.de/en/event/abschlusspr%C3%A4sentation
 -education-workshop-2-szenische-05-08-2023-11-00.html
X-APPLE-STRUCTURED-LOCATION;VALUE=URI;X-ADDRESS="Äußere Badstraße 7a, Bayre
 uth, 95448, Deutschland";X-APPLE-RADIUS=100;X-TITLE="Abschlusspräsentation
  Education-Workshop 2: Szenische Phantasien über Rachmaninows Sinfonische 
 Tänze":GEO:49.94286\,11.5876
END:VEVENT
END:VCALENDAR
