BEGIN:VCALENDAR
VERSION:2.0
PRODID:-//91.233.84.75//NONSGML kigkonsult.se iCalcreator 2.24//
CALSCALE:GREGORIAN
METHOD:PUBLISH
X-WR-TIMEZONE:Europe/Berlin
BEGIN:VTIMEZONE
TZID:Europe/Berlin
X-LIC-LOCATION:Europe/Berlin
BEGIN:STANDARD
DTSTART:19701025T030000
TZOFFSETFROM:+0200
TZOFFSETTO:+0100
TZNAME:CET
END:STANDARD
BEGIN:DAYLIGHT
DTSTART:19700329T020000
TZOFFSETFROM:+0100
TZOFFSETTO:+0200
TZNAME:CEST
END:DAYLIGHT
END:VTIMEZONE
BEGIN:VEVENT
UID:20260421T165232CEST-5055085b26@91.233.84.75
DTSTAMP:20260421T145232Z
DESCRIPTION:Musikalische Leitung: Martin SchneiderKonzept und Installation:
  Ophelia Flassig\n \nOffene Generalprobe am Freitag\, 15. August 2025\, um
  16:00 Uhr\nAufbauend auf dem Projekt „Alte Ohren\, neue Augen“\, das beim
  Festival junger Künstler Bayreuth 2024 vorgestellt wurde\, soll die Idee\
 , alte Musik mit den Mitteln moderner Kunst zu inszenieren\, weiterentwick
 elt und Grenzen ausgelotet werden.2024 präsentierte das Thalia-Ensemble ge
 meinsam mit der Sopranistin Caroline Adler Musik aus dem Barock und wurde 
 dabei von der Künstlerin Ophelia Flassig inszeniert.\nDas neue Projekt ste
 ht im Zeichen der Emotionen (im musikalischen „Affekte“ genannt). Dabei we
 rden Werke des Barocks mit moderner Kunst kontextualisiert\, um ihren Ausd
 ruck zu verstärken und zugänglich zu machen.Die Idee basiert auf einer Erz
 ählung über die griechische Muse des Tanzes „Terpsichore“: Auf Anfragen Ap
 ollos stellt Terpsichore tanzend verschiedene Emotionen wie Liebe und Eife
 rsucht dar. Mithilfe von Musik\, Performance und bildender Kunst – allerdi
 ngs ohne Tanz – macht das Thalia-Ensemble ebenso menschliche Emotionen in 
 neuer Form erlebbar.\nMit Werken (u. a.) von H. I. F. Biber\, G. P. Telema
 nn\, G. F. Händel\, A. Vivaldi und J. S. Bach.
DTSTART:20250817T160000
DTEND:20250817T160000
GEO:+49.94286;+11.5876
LOCATION:DAS ZENTRUM\, Europasaal\, Äußere Badstraße 7a\, 95448 Bayreuth\, 
 Deutschland
SUMMARY:'Affetti musicali nello spazio' – Affekte für Aug und Ohr. Ein Fami
 lienkonzert
URL:https://www.youngartistsbayreuth.de/en/event/affetti-musicali-nello-spa
 zio-affekte-f%C3%BCr-aug-und-ohr-17-08-2025-16-00.html
X-APPLE-STRUCTURED-LOCATION;VALUE=URI;X-ADDRESS="Äußere Badstraße 7a, Bayre
 uth, 95448, Deutschland";X-APPLE-RADIUS=100;X-TITLE=Affetti musicali nello
  spazio" – Affekte für Aug und Ohr. Ein Familienkonzert:GEO:49.94286\,11.5
 876
END:VEVENT
END:VCALENDAR
