BEGIN:VCALENDAR
VERSION:2.0
PRODID:-//91.233.84.75//NONSGML kigkonsult.se iCalcreator 2.24//
CALSCALE:GREGORIAN
METHOD:PUBLISH
X-WR-TIMEZONE:Europe/Berlin
BEGIN:VTIMEZONE
TZID:Europe/Berlin
X-LIC-LOCATION:Europe/Berlin
BEGIN:STANDARD
DTSTART:19701025T030000
TZOFFSETFROM:+0200
TZOFFSETTO:+0100
TZNAME:CET
END:STANDARD
BEGIN:DAYLIGHT
DTSTART:19700329T020000
TZOFFSETFROM:+0100
TZOFFSETTO:+0200
TZNAME:CEST
END:DAYLIGHT
END:VTIMEZONE
BEGIN:VEVENT
UID:20260421T165244CEST-9780db9ed6@91.233.84.75
DTSTAMP:20260421T145244Z
DESCRIPTION:Ein kleines Streitgespräch zwischen Felix Thiedemann und Dr. Vl
 adimir Ivanoff
DTSTART:20210804T170000
DTEND:20210804T170000
GEO:+49.94286;+11.5876
LOCATION:DAS ZENTRUM\, Kultursalon\, Äußere Badstraße 7a\, 95448 Bayreuth\,
  Deutschland
SUMMARY:„Alte Musik für junge Ohren: Neues Repertoire für alte Instrumente?
 “
URL:https://www.youngartistsbayreuth.de/en/event/alte-musik-f%C3%BCr-junge-
 ohren-neues-repertoire-f%C3%BCr-alte-04-08-2021-17-00.html
X-APPLE-STRUCTURED-LOCATION;VALUE=URI;X-ADDRESS="Äußere Badstraße 7a, Bayre
 uth, 95448, Deutschland";X-APPLE-RADIUS=100;X-TITLE="„Alte Musik für junge
  Ohren: Neues Repertoire für alte Instrumente?“":GEO:49.94286\,11.5876
END:VEVENT
END:VCALENDAR
