BEGIN:VCALENDAR
VERSION:2.0
PRODID:-//91.233.84.75//NONSGML kigkonsult.se iCalcreator 2.24//
CALSCALE:GREGORIAN
METHOD:PUBLISH
X-WR-TIMEZONE:Europe/Berlin
BEGIN:VTIMEZONE
TZID:Europe/Berlin
X-LIC-LOCATION:Europe/Berlin
BEGIN:STANDARD
DTSTART:19701025T030000
TZOFFSETFROM:+0200
TZOFFSETTO:+0100
TZNAME:CET
END:STANDARD
BEGIN:DAYLIGHT
DTSTART:19700329T020000
TZOFFSETFROM:+0100
TZOFFSETTO:+0200
TZNAME:CEST
END:DAYLIGHT
END:VTIMEZONE
BEGIN:VEVENT
UID:20260421T165119CEST-5259662178@91.233.84.75
DTSTAMP:20260421T145119Z
DESCRIPTION:Streichensemble Thalia\nCaroline Adler\, Sopran\nOphelia Flassi
 g\, Performancekünstlerin
DTSTART:20240804T170000
DTEND:20240804T170000
GEO:+49.786969;+11.82031
LOCATION:Klosterkirche Maria Immaculata\, Klosterhof\, 92676 Speinshart\, D
 eutschland
SUMMARY:„Alte Ohren – Neue Augen“ - Barockmusik in Szene gesetzt
URL:https://www.youngartistsbayreuth.de/en/event/alte-ohren-neue-augen-baro
 ckmusik-in-szene-gesetzt-04-08-2024-17-00.html
X-APPLE-STRUCTURED-LOCATION;VALUE=URI;X-ADDRESS="Klosterhof, Speinshart, 92
 676, Deutschland";X-APPLE-RADIUS=100;X-TITLE=„Alte Ohren – Neue Augen“ - B
 arockmusik in Szene gesetzt:GEO:49.7869694\,11.8203095
END:VEVENT
END:VCALENDAR
