BEGIN:VCALENDAR
VERSION:2.0
PRODID:-//91.233.84.75//NONSGML kigkonsult.se iCalcreator 2.24//
CALSCALE:GREGORIAN
METHOD:PUBLISH
X-WR-TIMEZONE:Europe/Berlin
BEGIN:VTIMEZONE
TZID:Europe/Berlin
X-LIC-LOCATION:Europe/Berlin
BEGIN:STANDARD
DTSTART:19701025T030000
TZOFFSETFROM:+0200
TZOFFSETTO:+0100
TZNAME:CET
END:STANDARD
BEGIN:DAYLIGHT
DTSTART:19700329T020000
TZOFFSETFROM:+0100
TZOFFSETTO:+0200
TZNAME:CEST
END:DAYLIGHT
END:VTIMEZONE
BEGIN:VEVENT
UID:20260421T165126CEST-9712e76279@91.233.84.75
DTSTAMP:20260421T145126Z
DESCRIPTION:Streichensemble Thalia\nCaroline Adler\, Sopran\nOphelia Flassi
 g\, Performancekünstlerin
DTSTART:20240805T190000
DTEND:20240805T190000
GEO:+49.94286;+11.5876
LOCATION:DAS ZENTRUM\, Europasaal\, Äußere Badstraße 7a\, 95448 Bayreuth\, 
 Deutschland
SUMMARY:„Alte Ohren – Neue Augen“ Barockmusik in Szene gesetzt
URL:https://www.youngartistsbayreuth.de/en/event/alte-ohren-neue-augen-baro
 ckmusik-in-szene-gesetzt-05-08-2024-19-00.html
X-APPLE-STRUCTURED-LOCATION;VALUE=URI;X-ADDRESS="Äußere Badstraße 7a, Bayre
 uth, 95448, Deutschland";X-APPLE-RADIUS=100;X-TITLE=„Alte Ohren – Neue Aug
 en“ Barockmusik in Szene gesetzt:GEO:49.94286\,11.5876
END:VEVENT
END:VCALENDAR
