BEGIN:VCALENDAR
VERSION:2.0
PRODID:-//91.233.84.75//NONSGML kigkonsult.se iCalcreator 2.24//
CALSCALE:GREGORIAN
METHOD:PUBLISH
X-WR-TIMEZONE:Europe/Berlin
BEGIN:VTIMEZONE
TZID:Europe/Berlin
X-LIC-LOCATION:Europe/Berlin
BEGIN:STANDARD
DTSTART:19701025T030000
TZOFFSETFROM:+0200
TZOFFSETTO:+0100
TZNAME:CET
END:STANDARD
BEGIN:DAYLIGHT
DTSTART:19700329T020000
TZOFFSETFROM:+0100
TZOFFSETTO:+0200
TZNAME:CEST
END:DAYLIGHT
END:VTIMEZONE
BEGIN:VEVENT
UID:20260421T163745CEST-4949ef9ee7@91.233.84.75
DTSTAMP:20260421T143745Z
DESCRIPTION:Festliches Chorkonzert mit dem Kammerchor Cappella Transylvanic
 aim Rahmen des 74. Festival junger Künstler Bayreuth\nMusikalische Leitung
 : Prof. Cornel Groza
DTSTART:20240804T190000
DTEND:20240804T190000
GEO:+49.89948;+11.540668
LOCATION:Pfarrkirche St. Marien zum Gesees\, Kirchweg 11\, 95494 Gesees\, D
 eutschland
SUMMARY:Alte Weisen.Neue Stimmen
URL:https://www.youngartistsbayreuth.de/en/event/alte-weisen-neue-stimmen-0
 4-08-2024-19-00.html
X-APPLE-STRUCTURED-LOCATION;VALUE=URI;X-ADDRESS="Kirchweg 11, Gesees, 95494
 , Deutschland";X-APPLE-RADIUS=100;X-TITLE=Alte Weisen.Neue Stimmen:GEO:49.
 8994799\,11.5406678
END:VEVENT
END:VCALENDAR
