BEGIN:VCALENDAR
VERSION:2.0
PRODID:-//91.233.84.75//NONSGML kigkonsult.se iCalcreator 2.24//
CALSCALE:GREGORIAN
METHOD:PUBLISH
X-WR-TIMEZONE:Europe/Berlin
BEGIN:VTIMEZONE
TZID:Europe/Berlin
X-LIC-LOCATION:Europe/Berlin
BEGIN:STANDARD
DTSTART:19701025T030000
TZOFFSETFROM:+0200
TZOFFSETTO:+0100
TZNAME:CET
END:STANDARD
BEGIN:DAYLIGHT
DTSTART:19700329T020000
TZOFFSETFROM:+0100
TZOFFSETTO:+0200
TZNAME:CEST
END:DAYLIGHT
END:VTIMEZONE
BEGIN:VEVENT
UID:20260421T145421CEST-4219801f20@91.233.84.75
DTSTAMP:20260421T125421Z
DESCRIPTION:Festliches Klavierkonzert mit Werken von u. a. Max Reger\nKlavi
 erduo VooDoo: Vuk Božilović und Dušan Grozdanović\, im Rahmen des 73. Fest
 ival junger Künstler Bayreuth
DTSTART:20230815T180000
DTEND:20230815T180000
GEO:+49.960995;+11.908008
LOCATION:Mehrzwecksaal\, Max-Reger-Straße 22\, 95682 Brand\, Deutschland
SUMMARY:Animato!
URL:https://www.youngartistsbayreuth.de/de/veranstaltung/animato-15-08-2023
 -18-00.html
X-APPLE-STRUCTURED-LOCATION;VALUE=URI;X-ADDRESS="Max-Reger-Straße 22, Brand
 , 95682, Deutschland";X-APPLE-RADIUS=100;X-TITLE=Animato!:GEO:49.9609948\,
 11.9080077
END:VEVENT
END:VCALENDAR
