BEGIN:VCALENDAR
VERSION:2.0
PRODID:-//91.233.84.75//NONSGML kigkonsult.se iCalcreator 2.24//
CALSCALE:GREGORIAN
METHOD:PUBLISH
X-WR-TIMEZONE:Europe/Berlin
BEGIN:VTIMEZONE
TZID:Europe/Berlin
X-LIC-LOCATION:Europe/Berlin
BEGIN:STANDARD
DTSTART:19701025T030000
TZOFFSETFROM:+0200
TZOFFSETTO:+0100
TZNAME:CET
END:STANDARD
BEGIN:DAYLIGHT
DTSTART:19700329T020000
TZOFFSETFROM:+0100
TZOFFSETTO:+0200
TZNAME:CEST
END:DAYLIGHT
END:VTIMEZONE
BEGIN:VEVENT
UID:20260421T162533CEST-9371bf6621@91.233.84.75
DTSTAMP:20260421T142533Z
DESCRIPTION:Konzert mit Werken von L. v. Beethoven\, C. M. von Weber\, E. H
 umperdinck\, G. Bizet\, P. I. Tschaikowsky\nKammerorchester des Polizeiorc
 hesters Bayern\nDirigent: GMD Prof. Johann Mösenbichler
DTSTART:20210814T190000
DTEND:20210814T190000
GEO:+49.94478;+11.574966
LOCATION:Kulturbühne Reichshof\, Maximilianstraße 28\, 95444 Bayreuth\, Deu
 tschland
SUMMARY:Aufbruch mit Tradition
URL:https://www.youngartistsbayreuth.de/en/event/aufbruch-mit-tradition-14-
 08-2021-19-00.html
X-APPLE-STRUCTURED-LOCATION;VALUE=URI;X-ADDRESS="Maximilianstraße 28, Bayre
 uth, 95444, Deutschland";X-APPLE-RADIUS=100;X-TITLE=Aufbruch mit Tradition
 :GEO:49.9447798\,11.5749662
END:VEVENT
END:VCALENDAR
