BEGIN:VCALENDAR
VERSION:2.0
PRODID:-//91.233.84.75//NONSGML kigkonsult.se iCalcreator 2.24//
CALSCALE:GREGORIAN
METHOD:PUBLISH
X-WR-TIMEZONE:Europe/Berlin
BEGIN:VTIMEZONE
TZID:Europe/Berlin
X-LIC-LOCATION:Europe/Berlin
BEGIN:STANDARD
DTSTART:19701025T030000
TZOFFSETFROM:+0200
TZOFFSETTO:+0100
TZNAME:CET
END:STANDARD
BEGIN:DAYLIGHT
DTSTART:19700329T020000
TZOFFSETFROM:+0100
TZOFFSETTO:+0200
TZNAME:CEST
END:DAYLIGHT
END:VTIMEZONE
BEGIN:VEVENT
UID:20260421T163825CEST-74417c7eb9@91.233.84.75
DTSTAMP:20260421T143825Z
DESCRIPTION:Werke von W. A. Mozart und P. I. Tschaikowskygesetzt für Streic
 hsextett\nMellon Ensemble im Rahmen des 70. Festival junger Künstler Bayre
 uth\n- AUSVERKAUFT -
DTSTART:20200809T160000
DTEND:20200809T160000
GEO:+49.786969;+11.82031
LOCATION:Klosterkirche Maria Immaculata\, Klosterhof\, 92676 Speinshart\, D
 eutschland
SUMMARY:AUSVERKAUFT | Souvenir de Florence
URL:https://www.youngartistsbayreuth.de/en/event/ausverkauft-souvenir-de-fl
 orence-09-08-2020-16-00.html
X-APPLE-STRUCTURED-LOCATION;VALUE=URI;X-ADDRESS="Klosterhof, Speinshart, 92
 676, Deutschland";X-APPLE-RADIUS=100;X-TITLE=AUSVERKAUFT | Souvenir de Flo
 rence:GEO:49.7869694\,11.8203095
END:VEVENT
END:VCALENDAR
