BEGIN:VCALENDAR
VERSION:2.0
PRODID:-//91.233.84.75//NONSGML kigkonsult.se iCalcreator 2.24//
CALSCALE:GREGORIAN
METHOD:PUBLISH
X-WR-TIMEZONE:Europe/Berlin
BEGIN:VTIMEZONE
TZID:Europe/Berlin
X-LIC-LOCATION:Europe/Berlin
BEGIN:STANDARD
DTSTART:19701025T030000
TZOFFSETFROM:+0200
TZOFFSETTO:+0100
TZNAME:CET
END:STANDARD
BEGIN:DAYLIGHT
DTSTART:19700329T020000
TZOFFSETFROM:+0100
TZOFFSETTO:+0200
TZNAME:CEST
END:DAYLIGHT
END:VTIMEZONE
BEGIN:VEVENT
UID:20260421T150153CEST-676662fe5b@91.233.84.75
DTSTAMP:20260421T130153Z
DESCRIPTION:Aleksandra Zaitseva\, ViolineEdita Hakobyan\, Klavier\n- AUSVER
 KAUFT -
DTSTART:20200804T193000
DTEND:20200804T193000
GEO:+49.94234;+11.573768
LOCATION:Steingraeber Haus\, Kammermusiksaal\, Friedrichstraße 2\, 95445 Ba
 yreuth\, Deutschland
SUMMARY:AUSVERKAUFT | Träumereien - Festliches Konzert mit Violinsonaten vo
 n J.S. Bach\, J. Brahms und S. Prokofjew
URL:https://www.youngartistsbayreuth.de/de/veranstaltung/ausverkauft-tr%C3%
 A4umereien-festliches-konzert-mit-04-08-2020-19-30.html
X-APPLE-STRUCTURED-LOCATION;VALUE=URI;X-ADDRESS="Friedrichstraße 2, Bayreut
 h, 95445, Deutschland";X-APPLE-RADIUS=100;X-TITLE="AUSVERKAUFT | Träumerei
 en - Festliches Konzert mit Violinsonaten von J.S. Bach, J. Brahms und S. 
 Prokofjew":GEO:49.9423403\,11.5737679
END:VEVENT
END:VCALENDAR
