BEGIN:VCALENDAR
VERSION:2.0
PRODID:-//91.233.84.75//NONSGML kigkonsult.se iCalcreator 2.24//
CALSCALE:GREGORIAN
METHOD:PUBLISH
X-WR-TIMEZONE:Europe/Berlin
BEGIN:VTIMEZONE
TZID:Europe/Berlin
X-LIC-LOCATION:Europe/Berlin
BEGIN:STANDARD
DTSTART:19701025T030000
TZOFFSETFROM:+0200
TZOFFSETTO:+0100
TZNAME:CET
END:STANDARD
BEGIN:DAYLIGHT
DTSTART:19700329T020000
TZOFFSETFROM:+0100
TZOFFSETTO:+0200
TZNAME:CEST
END:DAYLIGHT
END:VTIMEZONE
BEGIN:VEVENT
UID:20260421T145422CEST-2490fc32f8@91.233.84.75
DTSTAMP:20260421T125422Z
DESCRIPTION:Das Yara-Ensemble spielt festliche Barockmusiken. Es begibt sic
 h dabei auf eine musikalische Reise - von Rom bis Leipzig - durch die Entw
 icklung des Barock. Arcangelo Corelli steht dabei als berühmter Violinist\
 , Komponist und Lehrer im Zentrum des Programms. Es folgen Werke von Schül
 ern wie Francesco Geminiani\, Georg Friedrich Händel und Johann Sebastian 
 Bach sowie Werke von Bekannten Corellis wie von Georg Muffat.Im Rahmen des
  72. Festival junger Künstler Bayreuth.\nMusikalische Leitung: Felix Thied
 emann
DTSTART:20220807T170000
DTEND:20220807T170000
GEO:+49.72024;+11.05517
LOCATION:Kaiserpfalz\, Kapellenstraße 16\, 91301 Forchheim\, Deutschland
SUMMARY:Barocco
URL:https://www.youngartistsbayreuth.de/de/veranstaltung/barocco-07-08-2022
 -17-00.html
X-APPLE-STRUCTURED-LOCATION;VALUE=URI;X-ADDRESS="Kapellenstraße 16, Forchhe
 im, 91301, Deutschland";X-APPLE-RADIUS=100;X-TITLE=Barocco:GEO:49.72024\,1
 1.0551697
END:VEVENT
END:VCALENDAR
