BEGIN:VCALENDAR
VERSION:2.0
PRODID:-//91.233.84.75//NONSGML kigkonsult.se iCalcreator 2.24//
CALSCALE:GREGORIAN
METHOD:PUBLISH
X-WR-TIMEZONE:Europe/Berlin
BEGIN:VTIMEZONE
TZID:Europe/Berlin
X-LIC-LOCATION:Europe/Berlin
BEGIN:STANDARD
DTSTART:19701025T030000
TZOFFSETFROM:+0200
TZOFFSETTO:+0100
TZNAME:CET
END:STANDARD
BEGIN:DAYLIGHT
DTSTART:19700329T020000
TZOFFSETFROM:+0100
TZOFFSETTO:+0200
TZNAME:CEST
END:DAYLIGHT
END:VTIMEZONE
BEGIN:VEVENT
UID:20260421T164700CEST-8980f9e3d2@91.233.84.75
DTSTAMP:20260421T144700Z
DESCRIPTION:Bier & Bratwürste. Klassik & Folk. Dirndl & Gaudi.\nEin musikal
 ischer Hochgenuss für alle!\nEintritt frei!
DTSTART:20230808T190000
DTEND:20230808T190000
GEO:+49.94286;+11.5876
LOCATION:DAS ZENTRUM\, Europasaal und Open Air\, Äußere Badstraße 7a\, 9544
 8 Bayreuth\, Deutschland
SUMMARY:Bayreuther Abend
URL:https://www.youngartistsbayreuth.de/en/event/bayreuther-abend-08-08-202
 3-19-00.html
X-APPLE-STRUCTURED-LOCATION;VALUE=URI;X-ADDRESS="Äußere Badstraße 7a, Bayre
 uth, 95448, Deutschland";X-APPLE-RADIUS=100;X-TITLE=Bayreuther Abend:GEO:4
 9.94286\,11.5876
END:VEVENT
END:VCALENDAR
