BEGIN:VCALENDAR
VERSION:2.0
PRODID:-//91.233.84.75//NONSGML kigkonsult.se iCalcreator 2.24//
CALSCALE:GREGORIAN
METHOD:PUBLISH
X-WR-TIMEZONE:Europe/Berlin
BEGIN:VTIMEZONE
TZID:Europe/Berlin
X-LIC-LOCATION:Europe/Berlin
BEGIN:STANDARD
DTSTART:19701025T030000
TZOFFSETFROM:+0200
TZOFFSETTO:+0100
TZNAME:CET
END:STANDARD
BEGIN:DAYLIGHT
DTSTART:19700329T020000
TZOFFSETFROM:+0100
TZOFFSETTO:+0200
TZNAME:CEST
END:DAYLIGHT
END:VTIMEZONE
BEGIN:VEVENT
UID:20260421T163826CEST-858853341a@91.233.84.75
DTSTAMP:20260421T143826Z
DESCRIPTION:Christian Benning Percussion Group\nIm Rahmen des 71. Festival 
 junger Künstler Bayreuth\n \nbei Schlechtwetter: Klosterkirche Maria Immac
 ulata
DTSTART:20210817T180000
DTEND:20210817T180000
GEO:+49.786969;+11.82031
LOCATION:Innenhof der Abtei &#40\;Open Air&#41\;\, Kloster\, 92676 Speinsha
 rt\, Deutschland
SUMMARY:Beathoven - Klassik auf Schlagwerk
URL:https://www.youngartistsbayreuth.de/en/event/beathoven-klassik-auf-schl
 agwerk-17-08-2021-18-00.html
X-APPLE-STRUCTURED-LOCATION;VALUE=URI;X-ADDRESS="Kloster, Speinshart, 92676
 , Deutschland";X-APPLE-RADIUS=100;X-TITLE=Beathoven - Klassik auf Schlagwe
 rk:GEO:49.7869694\,11.8203095
END:VEVENT
END:VCALENDAR
