BEGIN:VCALENDAR
VERSION:2.0
PRODID:-//91.233.84.75//NONSGML kigkonsult.se iCalcreator 2.24//
CALSCALE:GREGORIAN
METHOD:PUBLISH
X-WR-TIMEZONE:Europe/Berlin
BEGIN:VTIMEZONE
TZID:Europe/Berlin
X-LIC-LOCATION:Europe/Berlin
BEGIN:STANDARD
DTSTART:19701025T030000
TZOFFSETFROM:+0200
TZOFFSETTO:+0100
TZNAME:CET
END:STANDARD
BEGIN:DAYLIGHT
DTSTART:19700329T020000
TZOFFSETFROM:+0100
TZOFFSETTO:+0200
TZNAME:CEST
END:DAYLIGHT
END:VTIMEZONE
BEGIN:VEVENT
UID:20260421T164118CEST-1425e1ad75@91.233.84.75
DTSTAMP:20260421T144118Z
DESCRIPTION:Polizeiorchester Bayern spielt Benefizkonzert für junge Künstle
 r\nUnter dem Konzerttitel „Himmlische Klangfarben – Hören. Sehen. Fühlen. 
 Erleben.“ gibt das Polizeiorchester Bayern ein Benefizkonzert am Freitag\,
  13. Mai 2022\, um 19 Uhr in der Stadtkirche Bayreuth. Der gesamte Erlös g
 eht an die Förderer des Festival junger Künstler Bayreuth\, die damit vor 
 allem jungen ukrainischen Künstlerinnen und Künstlern die Teilnahme am die
 sjährigen 72. Festival ermöglichen wollen.\nInformationen    Programm \nKa
 rten gibt es in der Theaterkasse Bayreuth und an den Abendkassen.
DTSTART:20220513T190000
DTEND:20220513T190000
GEO:+49.943155;+11.574541
LOCATION:Stadtkirche Heilig Dreifaltigkeit\, Kirchplatz 1\, 95444 Bayreuth\
 , Deutschland
SUMMARY:Benefizkonzert: Polizeiorchester Bayern spielt Himmlische Klangfarb
 en
URL:https://www.youngartistsbayreuth.de/en/event/benefizkonzert-polizeiorch
 ester-bayern-spielt-himmlische-13-05-2022-19-00.html
X-APPLE-STRUCTURED-LOCATION;VALUE=URI;X-ADDRESS="Kirchplatz 1, Bayreuth, 95
 444, Deutschland";X-APPLE-RADIUS=100;X-TITLE="Benefizkonzert: Polizeiorche
 ster Bayern spielt Himmlische Klangfarben":GEO:49.9431552\,11.5745409
END:VEVENT
END:VCALENDAR
