BEGIN:VCALENDAR
VERSION:2.0
PRODID:-//91.233.84.75//NONSGML kigkonsult.se iCalcreator 2.24//
CALSCALE:GREGORIAN
METHOD:PUBLISH
X-WR-TIMEZONE:Europe/Berlin
BEGIN:VTIMEZONE
TZID:Europe/Berlin
X-LIC-LOCATION:Europe/Berlin
BEGIN:STANDARD
DTSTART:19701025T030000
TZOFFSETFROM:+0200
TZOFFSETTO:+0100
TZNAME:CET
END:STANDARD
BEGIN:DAYLIGHT
DTSTART:19700329T020000
TZOFFSETFROM:+0100
TZOFFSETTO:+0200
TZNAME:CEST
END:DAYLIGHT
END:VTIMEZONE
BEGIN:VEVENT
UID:20260421T162116CEST-3526b59121@91.233.84.75
DTSTAMP:20260421T142116Z
DESCRIPTION:Das 74. Festival junger Künstler Bayreuth gastiert am Kulturkio
 sk mit  'Blaurosa. Klassik recycled. Pop & Klassik'\nDargeboten von:\nAndr
 eas Begert\, Klavier und GesangCaroline Adler\, GesangAnna Godelmann\, Vio
 lineAnna-Sophia Kraus\, Violine\nSeien Sie dabei und genießen Sie diesen b
 unten Abend für Bayreuth im Freien mit uns.Für Essen und Trinken ist beste
 ns gesorgt. Der Eintritt ist frei.\nWir freuen uns auf Sie!
DTSTART:20240806T190000
DTEND:20240806T190000
GEO:+49.943155;+11.574541
LOCATION:Kulturkiosk 'Zur Seebühne'\, Wilhelminenaue\, 95448 Bayreuth\, Deu
 tschland
SUMMARY:Blaurosa.Klassik recycled - Pop & Klassik
URL:https://www.youngartistsbayreuth.de/de/veranstaltung/blaurosa-klassik-r
 ecycled-pop-klassik-06-08-2024-19-00.html
X-APPLE-STRUCTURED-LOCATION;VALUE=URI;X-ADDRESS="Wilhelminenaue, Bayreuth, 
 95448, Deutschland";X-APPLE-RADIUS=100;X-TITLE=Blaurosa.Klassik recycled -
  Pop & Klassik:GEO:49.9431552\,11.5745409
END:VEVENT
END:VCALENDAR
