BEGIN:VCALENDAR
VERSION:2.0
PRODID:-//91.233.84.75//NONSGML kigkonsult.se iCalcreator 2.24//
CALSCALE:GREGORIAN
METHOD:PUBLISH
X-WR-TIMEZONE:Europe/Berlin
BEGIN:VTIMEZONE
TZID:Europe/Berlin
X-LIC-LOCATION:Europe/Berlin
BEGIN:STANDARD
DTSTART:19701025T030000
TZOFFSETFROM:+0200
TZOFFSETTO:+0100
TZNAME:CET
END:STANDARD
BEGIN:DAYLIGHT
DTSTART:19700329T020000
TZOFFSETFROM:+0100
TZOFFSETTO:+0200
TZNAME:CEST
END:DAYLIGHT
END:VTIMEZONE
BEGIN:VEVENT
UID:20260421T150444CEST-62499bb1d4@91.233.84.75
DTSTAMP:20260421T130444Z
DESCRIPTION:Johannes Obermeier\, Klavier\nDer junge Ausnahmekünstler Johann
 es Obermeier präsentiert in diesem vielfältigen Klavierrezital Werke aus u
 nterschiedlichen Epochen. Franz Schuberts berühmte A-Dur-Sonate D664 bilde
 t zusammen mit einigen Liedern ohne Worte von Felix Mendelssohn Bartholdy 
 eine romantische Einheit\, echte Brillanten der Klavierkunst. Neben den ja
 zzigen Blues-Fantasien von Heinz Werner Zimmermann steht auch eine Eigenko
 mposition auf dem Programm. Abgerundet wird der Abend durch hoch virtuose 
 Etüden von Frédéric Chopin und Leopold Godowsky. Freuen Sie sich auf den A
 RD-Preisträger und vielfach ausgezeichneten Komponisten Johannes Obermeier
  und einen Abend voll funkelnder Brillanten!
DTSTART:20250808T193000
DTEND:20250808T193000
GEO:+49.94234;+11.573768
LOCATION:Steingraeber Haus\, Kammermusiksaal\, Friedrichstraße 2\, 95445 Ba
 yreuth\, Deutschland
SUMMARY:'Brilliants' - echte Brillianten der Klavierkunst
URL:https://www.youngartistsbayreuth.de/de/veranstaltung/brilliants-echte-b
 rillianten-der-klavierkunst-08-08-2025-19-30.html
X-APPLE-STRUCTURED-LOCATION;VALUE=URI;X-ADDRESS="Friedrichstraße 2, Bayreut
 h, 95445, Deutschland";X-APPLE-RADIUS=100;X-TITLE=Brilliants" - echte Bril
 lianten der Klavierkunst:GEO:49.9423403\,11.5737679
END:VEVENT
END:VCALENDAR
