BEGIN:VCALENDAR
VERSION:2.0
PRODID:-//91.233.84.75//NONSGML kigkonsult.se iCalcreator 2.24//
CALSCALE:GREGORIAN
METHOD:PUBLISH
X-WR-TIMEZONE:Europe/Berlin
BEGIN:VTIMEZONE
TZID:Europe/Berlin
X-LIC-LOCATION:Europe/Berlin
BEGIN:STANDARD
DTSTART:19701025T030000
TZOFFSETFROM:+0200
TZOFFSETTO:+0100
TZNAME:CET
END:STANDARD
BEGIN:DAYLIGHT
DTSTART:19700329T020000
TZOFFSETFROM:+0100
TZOFFSETTO:+0200
TZNAME:CEST
END:DAYLIGHT
END:VTIMEZONE
BEGIN:VEVENT
UID:20260421T163840CEST-32780a4376@91.233.84.75
DTSTAMP:20260421T143840Z
DESCRIPTION:Munich String Band\; Bayerische Volksmusik\; Haz'Art Trio\; Abd
 alhadi Deep\, Stimme & Oud\; Laila Mahmoud\, Qanun\; Linus Cuno\, Stimme &
  Piano.\nVladimir Ivanoff\, Programm & Musikalische Leitung
DTSTART:20200808T180000
DTEND:20200808T180000
GEO:+49.94286;+11.5876
LOCATION:DAS ZENTRUM und im Livestream\, Äußere Badstraße 7a\, 95448 Bayreu
 th\, Deutschland
SUMMARY:CELEBRATE – „Bluegrass Meets Bavariangrass\, Weißbier meets Corona 
 (Beer!):  The Final Countdown“
URL:https://www.youngartistsbayreuth.de/en/event/celebrate-bluegrass-meets-
 bavariangrass-wei%C3%9Fbier-meets-08-08-2020-18-00.html
X-APPLE-STRUCTURED-LOCATION;VALUE=URI;X-ADDRESS="Äußere Badstraße 7a, Bayre
 uth, 95448, Deutschland";X-APPLE-RADIUS=100;X-TITLE="CELEBRATE – „Bluegras
 s Meets Bavariangrass, Weißbier meets Corona (Beer!):  The Final Countdown
 “":GEO:49.94286\,11.5876
END:VEVENT
END:VCALENDAR
