BEGIN:VCALENDAR
VERSION:2.0
PRODID:-//91.233.84.75//NONSGML kigkonsult.se iCalcreator 2.24//
CALSCALE:GREGORIAN
METHOD:PUBLISH
X-WR-TIMEZONE:Europe/Berlin
BEGIN:VTIMEZONE
TZID:Europe/Berlin
X-LIC-LOCATION:Europe/Berlin
BEGIN:STANDARD
DTSTART:19701025T030000
TZOFFSETFROM:+0200
TZOFFSETTO:+0100
TZNAME:CET
END:STANDARD
BEGIN:DAYLIGHT
DTSTART:19700329T020000
TZOFFSETFROM:+0100
TZOFFSETTO:+0200
TZNAME:CEST
END:DAYLIGHT
END:VTIMEZONE
BEGIN:VEVENT
UID:20260421T164854CEST-153895541e@91.233.84.75
DTSTAMP:20260421T144854Z
DESCRIPTION:Festliches Sommerkonzert mit Werken von u. a. Ph. H. Erlebach\,
  H. I. F. von Biber und G. Ph. Telemann.\nBayerisches Jugend-Barockorchest
 er im Rahmen des Festival junger Künstler Bayreuth\nKonzertmeister: Martin
  Schneider
DTSTART:20230810T190000
DTEND:20230810T190000
GEO:+49.716784;+11.906717
LOCATION:Friedenskirche Heilig Dreifaltigkeit\, Kerschensteinerstraße 1\, 9
 2655 Grafenwöhr\, Deutschland
SUMMARY:Chaconne. Ein Ritual in Barocker Musik.
URL:https://www.youngartistsbayreuth.de/en/event/chaconne-ein-ritual-in-bar
 ocker-musik-10-08-2023-19-00.html
X-APPLE-STRUCTURED-LOCATION;VALUE=URI;X-ADDRESS="Kerschensteinerstraße 1, G
 rafenwöhr, 92655, Deutschland";X-APPLE-RADIUS=100;X-TITLE=Chaconne. Ein Ri
 tual in Barocker Musik.:GEO:49.71678407414998\,11.906717254578183
END:VEVENT
END:VCALENDAR
