BEGIN:VCALENDAR
VERSION:2.0
PRODID:-//91.233.84.75//NONSGML kigkonsult.se iCalcreator 2.24//
CALSCALE:GREGORIAN
METHOD:PUBLISH
X-WR-TIMEZONE:Europe/Berlin
BEGIN:VTIMEZONE
TZID:Europe/Berlin
X-LIC-LOCATION:Europe/Berlin
BEGIN:STANDARD
DTSTART:19701025T030000
TZOFFSETFROM:+0200
TZOFFSETTO:+0100
TZNAME:CET
END:STANDARD
BEGIN:DAYLIGHT
DTSTART:19700329T020000
TZOFFSETFROM:+0100
TZOFFSETTO:+0200
TZNAME:CEST
END:DAYLIGHT
END:VTIMEZONE
BEGIN:VEVENT
UID:20260421T164957CEST-5390a16061@91.233.84.75
DTSTAMP:20260421T144957Z
DESCRIPTION:Percussion-Feuerwerk beim Abschlusskonzert des 74. Festival jun
 ger Künstler Bayreuth\n„Christian Benning Percussion Group*Christian Benni
 ngFelix KolbMarcel Morikawa
DTSTART:20240817T183000
DTEND:20240817T200000
GEO:+49.94286;+11.5876
LOCATION:DAS ZENTRUM\, Europasaal\, Äußere Badstraße 7a\, 95448 Bayreuth\, 
 Deutschland
SUMMARY:Christian Benning Percussion - „Zurück in die Zukunft'
URL:https://www.youngartistsbayreuth.de/en/event/christian-benning-percussi
 on-zur%C3%BCck-in-die-zukunft-17-08-2024-18-30.html
X-APPLE-STRUCTURED-LOCATION;VALUE=URI;X-ADDRESS="Äußere Badstraße 7a, Bayre
 uth, 95448, Deutschland";X-APPLE-RADIUS=100;X-TITLE=Christian Benning Perc
 ussion - „Zurück in die Zukunft:GEO:49.94286\,11.5876
END:VEVENT
END:VCALENDAR
