BEGIN:VCALENDAR
VERSION:2.0
PRODID:-//91.233.84.75//NONSGML kigkonsult.se iCalcreator 2.24//
CALSCALE:GREGORIAN
METHOD:PUBLISH
X-WR-TIMEZONE:Europe/Berlin
BEGIN:VTIMEZONE
TZID:Europe/Berlin
X-LIC-LOCATION:Europe/Berlin
BEGIN:STANDARD
DTSTART:19701025T030000
TZOFFSETFROM:+0200
TZOFFSETTO:+0100
TZNAME:CET
END:STANDARD
BEGIN:DAYLIGHT
DTSTART:19700329T020000
TZOFFSETFROM:+0100
TZOFFSETTO:+0200
TZNAME:CEST
END:DAYLIGHT
END:VTIMEZONE
BEGIN:VEVENT
UID:20260421T145319CEST-44760379cd@91.233.84.75
DTSTAMP:20260421T125319Z
DESCRIPTION:Kleiner Einführungsworkshop für Kinder\nmit Christian F. Bennin
 g\, Multipercussionist
DTSTART:20210816T163000
DTEND:20210816T163000
GEO:+49.946313;+11.601495
LOCATION:Seebühne in der Wilhelminenaue\, Äußere Badstraße 27\, 95448 Bayre
 uth\, Deutschland
SUMMARY:Classic & Cola
URL:https://www.youngartistsbayreuth.de/de/veranstaltung/classic-cola-16-08
 -2021-16-30.html
X-APPLE-STRUCTURED-LOCATION;VALUE=URI;X-ADDRESS="Äußere Badstraße 27, Bayre
 uth, 95448, Deutschland";X-APPLE-RADIUS=100;X-TITLE=Classic & Cola:GEO:49.
 946313\,11.601495
END:VEVENT
END:VCALENDAR
