BEGIN:VCALENDAR
VERSION:2.0
PRODID:-//91.233.84.75//NONSGML kigkonsult.se iCalcreator 2.24//
CALSCALE:GREGORIAN
METHOD:PUBLISH
X-WR-TIMEZONE:Europe/Berlin
BEGIN:VTIMEZONE
TZID:Europe/Berlin
X-LIC-LOCATION:Europe/Berlin
BEGIN:STANDARD
DTSTART:19701025T030000
TZOFFSETFROM:+0200
TZOFFSETTO:+0100
TZNAME:CET
END:STANDARD
BEGIN:DAYLIGHT
DTSTART:19700329T020000
TZOFFSETFROM:+0100
TZOFFSETTO:+0200
TZNAME:CEST
END:DAYLIGHT
END:VTIMEZONE
BEGIN:VEVENT
UID:20260421T165055CEST-07340519b4@91.233.84.75
DTSTAMP:20260421T145055Z
DESCRIPTION:- geladene Gäste - 
DTSTART:20250805T180000
DTEND:20250805T180000
GEO:+49.94286;+11.5876
LOCATION:DAS ZENTRUM\, Europasaal\, Äußere Badstraße 7a\, 95448 Bayreuth\, 
 Deutschland
SUMMARY:'classic & wild' - Festliche Eröffnung des 75. Festival junger Küns
 tler Bayreuth - geladene Gäste -
URL:https://www.youngartistsbayreuth.de/en/event/classic-wild-festliche-er%
 C3%B6ffnung-des-75-festival-05-08-2025-18-00.html
X-APPLE-STRUCTURED-LOCATION;VALUE=URI;X-ADDRESS="Äußere Badstraße 7a, Bayre
 uth, 95448, Deutschland";X-APPLE-RADIUS=100;X-TITLE=classic & wild" - Fest
 liche Eröffnung des 75. Festival junger Künstler Bayreuth - geladene Gäste
  -:GEO:49.94286\,11.5876
END:VEVENT
END:VCALENDAR
