BEGIN:VCALENDAR
VERSION:2.0
PRODID:-//91.233.84.75//NONSGML kigkonsult.se iCalcreator 2.24//
CALSCALE:GREGORIAN
METHOD:PUBLISH
X-WR-TIMEZONE:Europe/Berlin
BEGIN:VTIMEZONE
TZID:Europe/Berlin
X-LIC-LOCATION:Europe/Berlin
BEGIN:STANDARD
DTSTART:19701025T030000
TZOFFSETFROM:+0200
TZOFFSETTO:+0100
TZNAME:CET
END:STANDARD
BEGIN:DAYLIGHT
DTSTART:19700329T020000
TZOFFSETFROM:+0100
TZOFFSETTO:+0200
TZNAME:CEST
END:DAYLIGHT
END:VTIMEZONE
BEGIN:VEVENT
UID:20260421T164854CEST-5579a907e3@91.233.84.75
DTSTAMP:20260421T144854Z
DESCRIPTION:Ein musisches Fest der Begegnung der Kulturen und gegenseitigen
  Inspiration\nDas Nysenfest ist ein zwangloses Zusammenkommen von Festival
 teilnehmern und Gästen über vielfältige Spielarten der musikalischen Impro
 visation. Der Rahmen ist leger-festlich: Speis und Trank stehen für den Ga
 umen bereit. Das alle verbindende optische Element ist die Farbe der „Nyse
 n“\, blütenweißes Weiß\, das jeden Ort und jedes Wesen in aller Schlichthe
 it in einen fantasievollen Fokus rückt.Weiße Stoffbahnen sind vorbereitet 
 zur freien Verfügung\, um sich damit nach Lust und Laune zu dekorieren. We
 iße Körperfarbe steht bereit\, um sich fröhlich zu bepinseln\, wie einem d
 er Sinn steht. Aus all den weißen Tupfern wird Buntheit. So stehen die bun
 ten Nysen bereit\, auf eine besondere Art und Weise Gemeinschaft zu feiern
 : durch das vielfältige Entstehenlassen von Musik aus dem Augenblick herau
 s.\nMusikkulturen aus den unterschiedlichsten Winkeln der Erde musizieren 
 in weltumspannender Harmonie\, mit der Stimme\, mit ihren Instrumenten ode
 r mit allen Arten von Perkussion. Profis musizieren mit Laien\, jeder kann
  sich mit Lust einbringen\, es gibt keine Schwelle eines Mindestniveaus mu
 sikalischer Kompetenz. Gleichwohl kann auch bis zur höchsten Virtuosität b
 rilliert werden. Unterschiedliche Formen solcher Improvisationen sind vorb
 ereitet\, aber die Regel des Abends ist die Freiheit\, und so können alle 
 Beteiligten steuern\, wohin sich der Abend bewegt.\nDie Nysen entstammen d
 er altgriechischen Mythologie als Nymphen der sagenumwobenen Flussinsel Ny
 sa\, wo sie Dionysos als Neugeborenes aufnahmen\, erzogen\, verzogen und i
 nspirierten. Aus ihrer Lust wuchs die dionysische Kraft\, die den Menschen
  das alle Künste umfassende Theater schenkte.\nLeitung: Maximilian Ponader
 \, Hamburg
DTSTART:20250804T200000
DTEND:20250804T200000
GEO:+49.943668;+11.58675
LOCATION:Internationaler Biergarten &#40\;WWG&#41\;\, Am Sportpark 1\, 9544
 8 Bayreuth\, Deutschland
SUMMARY:'Das Nysenfest' - Eine Fortsetzung
URL:https://www.youngartistsbayreuth.de/en/event/das-nysenfest-eine-fortset
 zung-04-08-2025-20-00.html
X-APPLE-STRUCTURED-LOCATION;VALUE=URI;X-ADDRESS="Am Sportpark 1, Bayreuth, 
 95448, Deutschland";X-APPLE-RADIUS=100;X-TITLE=Das Nysenfest" - Eine Forts
 etzung:GEO:49.943668\,11.5867502
END:VEVENT
END:VCALENDAR
