BEGIN:VCALENDAR
VERSION:2.0
PRODID:-//91.233.84.75//NONSGML kigkonsult.se iCalcreator 2.24//
CALSCALE:GREGORIAN
METHOD:PUBLISH
X-WR-TIMEZONE:Europe/Berlin
BEGIN:VTIMEZONE
TZID:Europe/Berlin
X-LIC-LOCATION:Europe/Berlin
BEGIN:STANDARD
DTSTART:19701025T030000
TZOFFSETFROM:+0200
TZOFFSETTO:+0100
TZNAME:CET
END:STANDARD
BEGIN:DAYLIGHT
DTSTART:19700329T020000
TZOFFSETFROM:+0100
TZOFFSETTO:+0200
TZNAME:CEST
END:DAYLIGHT
END:VTIMEZONE
BEGIN:VEVENT
UID:20260421T164016CEST-1208064440@91.233.84.75
DTSTAMP:20260421T144016Z
DESCRIPTION:Festspielkinder 2022. Educationprojekt\nLeitung: Maximilian Pon
 ader
DTSTART:20220803T160000
DTEND:20220803T160000
GEO:+49.94286;+11.5876
LOCATION:DAS ZENTRUM\, Kleinkunstbühne\, Äußere Badstraße 7a\, 95448 Bayreu
 th\, Deutschland
SUMMARY:„Das Trojanische Pferd“ - Abschlussveranstaltung des Workshops
URL:https://www.youngartistsbayreuth.de/en/event/das-trojanische-pferd-absc
 hlussveranstaltung-des-03-08-2022-16-00.html
X-APPLE-STRUCTURED-LOCATION;VALUE=URI;X-ADDRESS="Äußere Badstraße 7a, Bayre
 uth, 95448, Deutschland";X-APPLE-RADIUS=100;X-TITLE=„Das Trojanische Pferd
 “ - Abschlussveranstaltung des Workshops:GEO:49.94286\,11.5876
END:VEVENT
END:VCALENDAR
