BEGIN:VCALENDAR
VERSION:2.0
PRODID:-//91.233.84.75//NONSGML kigkonsult.se iCalcreator 2.24//
CALSCALE:GREGORIAN
METHOD:PUBLISH
X-WR-TIMEZONE:Europe/Berlin
BEGIN:VTIMEZONE
TZID:Europe/Berlin
X-LIC-LOCATION:Europe/Berlin
BEGIN:STANDARD
DTSTART:19701025T030000
TZOFFSETFROM:+0200
TZOFFSETTO:+0100
TZNAME:CET
END:STANDARD
BEGIN:DAYLIGHT
DTSTART:19700329T020000
TZOFFSETFROM:+0100
TZOFFSETTO:+0200
TZNAME:CEST
END:DAYLIGHT
END:VTIMEZONE
BEGIN:VEVENT
UID:20260421T163842CEST-86275de98c@91.233.84.75
DTSTAMP:20260421T143842Z
DESCRIPTION:mit Musik von Hector Berlioz1. bis 3. August 2022\nFestspielkin
 der 2022. Educationprojekt\nLeitung: Maximilian PonaderFür Kinder zwischen
  7 und 12 Jahren
DTSTART:20220801T090000
DTEND:20220801T170000
GEO:+49.94286;+11.5876
LOCATION:DAS ZENTRUM\, Kleinkunstbühne\, Äußere Badstraße 7a\, 95448 Bayreu
 th\, Deutschland
SUMMARY:„Das Trojanische Pferd“ – Ein zauberhaftes Schwarzlichttheater (Wor
 kshop)
URL:https://www.youngartistsbayreuth.de/en/event/das-trojanische-pferd-ein-
 zauberhaftes-01-08-2022-09-00.html
X-APPLE-STRUCTURED-LOCATION;VALUE=URI;X-ADDRESS="Äußere Badstraße 7a, Bayre
 uth, 95448, Deutschland";X-APPLE-RADIUS=100;X-TITLE=„Das Trojanische Pferd
 “ – Ein zauberhaftes Schwarzlichttheater (Workshop):GEO:49.94286\,11.5876
END:VEVENT
END:VCALENDAR
