BEGIN:VCALENDAR
VERSION:2.0
PRODID:-//91.233.84.75//NONSGML kigkonsult.se iCalcreator 2.24//
CALSCALE:GREGORIAN
METHOD:PUBLISH
X-WR-TIMEZONE:Europe/Berlin
BEGIN:VTIMEZONE
TZID:Europe/Berlin
X-LIC-LOCATION:Europe/Berlin
BEGIN:STANDARD
DTSTART:19701025T030000
TZOFFSETFROM:+0200
TZOFFSETTO:+0100
TZNAME:CET
END:STANDARD
BEGIN:DAYLIGHT
DTSTART:19700329T020000
TZOFFSETFROM:+0100
TZOFFSETTO:+0200
TZNAME:CEST
END:DAYLIGHT
END:VTIMEZONE
BEGIN:VEVENT
UID:20260421T164936CEST-048401c4d5@91.233.84.75
DTSTAMP:20260421T144936Z
DESCRIPTION:im neuen Format auf der Seebühne\nGalakonzert - Barock & Rock
DTSTART:20220803T180000
DTEND:20220803T180000
GEO:+49.946313;+11.601495
LOCATION:Seebühne in der Wilhelminenaue\, Äußere Badstraße 27\, 95448 Bayre
 uth\, Deutschland
SUMMARY:Der traditionelle Bayreuther Abend des Festival junger Künstler
URL:https://www.youngartistsbayreuth.de/en/event/der-traditionelle-bayreuth
 er-abend-des-festival-junger-03-08-2022-18-00.html
X-APPLE-STRUCTURED-LOCATION;VALUE=URI;X-ADDRESS="Äußere Badstraße 27, Bayre
 uth, 95448, Deutschland";X-APPLE-RADIUS=100;X-TITLE=Der traditionelle Bayr
 euther Abend des Festival junger Künstler:GEO:49.946313\,11.601495
END:VEVENT
END:VCALENDAR
