BEGIN:VCALENDAR
VERSION:2.0
PRODID:-//91.233.84.75//NONSGML kigkonsult.se iCalcreator 2.24//
CALSCALE:GREGORIAN
METHOD:PUBLISH
X-WR-TIMEZONE:Europe/Berlin
BEGIN:VTIMEZONE
TZID:Europe/Berlin
X-LIC-LOCATION:Europe/Berlin
BEGIN:STANDARD
DTSTART:19701025T030000
TZOFFSETFROM:+0200
TZOFFSETTO:+0100
TZNAME:CET
END:STANDARD
BEGIN:DAYLIGHT
DTSTART:19700329T020000
TZOFFSETFROM:+0100
TZOFFSETTO:+0200
TZNAME:CEST
END:DAYLIGHT
END:VTIMEZONE
BEGIN:VEVENT
UID:20260421T164758CEST-12007b5106@91.233.84.75
DTSTAMP:20260421T144758Z
DESCRIPTION:Interkulturelle Arbeit und stilistische Vielfalt als Mittel der
  Konfliktdeeskaltion\nPräsentation und Diskurs\nDas Festival junger Künstl
 er Bayreuth als Ort der Begegnung\, des interkulturellen Dialogs und als F
 orum für das Neue.\n- geladene Gäste - (Probe für 18.8.)
DTSTART:20210817T150000
DTEND:20210817T150000
GEO:+49.94286;+11.5876
LOCATION:DAS ZENTRUM\, Europasaal\, Äußere Badstraße 7a\, 95448 Bayreuth\, 
 Deutschland
SUMMARY:Dialog der Musikwelten!
URL:https://www.youngartistsbayreuth.de/en/event/dialog-der-musikwelten-17-
 08-2021-15-00.html
X-APPLE-STRUCTURED-LOCATION;VALUE=URI;X-ADDRESS="Äußere Badstraße 7a, Bayre
 uth, 95448, Deutschland";X-APPLE-RADIUS=100;X-TITLE=Dialog der Musikwelten
 !:GEO:49.94286\,11.5876
END:VEVENT
END:VCALENDAR
