BEGIN:VCALENDAR
VERSION:2.0
PRODID:-//91.233.84.75//NONSGML kigkonsult.se iCalcreator 2.24//
CALSCALE:GREGORIAN
METHOD:PUBLISH
X-WR-TIMEZONE:Europe/Berlin
BEGIN:VTIMEZONE
TZID:Europe/Berlin
X-LIC-LOCATION:Europe/Berlin
BEGIN:STANDARD
DTSTART:19701025T030000
TZOFFSETFROM:+0200
TZOFFSETTO:+0100
TZNAME:CET
END:STANDARD
BEGIN:DAYLIGHT
DTSTART:19700329T020000
TZOFFSETFROM:+0100
TZOFFSETTO:+0200
TZNAME:CEST
END:DAYLIGHT
END:VTIMEZONE
BEGIN:VEVENT
UID:20260421T163744CEST-1440de4f6d@91.233.84.75
DTSTAMP:20260421T143744Z
DESCRIPTION:„Die kleine Nachtigall“ – In diesem bezaubernden Konzert für Ki
 nder und Familien wird die Geschichte einer kleinen ehrgeizigen Nachtigall
  erzählt\, die täglich vielen Stunden übt\, um im Vogelkonzert einmal die 
 beste Sängerin zu sein. Im zweiten Teil erklingt die Geschichte von Peter 
 und der Wolf\, die Sergei Prokofiev bereits 1936 komponierte und die zu de
 n berühmtesten Werken der neueren Musikgeschichte zählt.\nKomposition: Dom
 inic Wills\nKünstlerische Leitung: Fredrik Schwenk\nGeige: Yaodong Zhang\n
 Blockflöte: Valerie Heber\nBratsche: Zeynep Sertoglu\nCello: Antonio Lo Co
 rto\nFlöte: Karen Geisler\n \nEin Konzert des 75. Festival junger Künstler
  Bayreuth.
DTSTART:20250815T160000
DTEND:20250815T160000
GEO:+49.45505;+12.17969
LOCATION:Marienkirche Nabburg\, Obertor 4A\, 92507 Nabburg\, Deutschland
SUMMARY:„Die kleine Nachtigall“
URL:https://www.youngartistsbayreuth.de/en/event/die-kleine-nachtigall-15-0
 8-2025-16-00.html
X-APPLE-STRUCTURED-LOCATION;VALUE=URI;X-ADDRESS="Obertor 4A, Nabburg, 92507
 , Deutschland";X-APPLE-RADIUS=100;X-TITLE=„Die kleine Nachtigall“:GEO:49.4
 550502\,12.1796902
END:VEVENT
END:VCALENDAR
