BEGIN:VCALENDAR
VERSION:2.0
PRODID:-//91.233.84.75//NONSGML kigkonsult.se iCalcreator 2.24//
CALSCALE:GREGORIAN
METHOD:PUBLISH
X-WR-TIMEZONE:Europe/Berlin
BEGIN:VTIMEZONE
TZID:Europe/Berlin
X-LIC-LOCATION:Europe/Berlin
BEGIN:STANDARD
DTSTART:19701025T030000
TZOFFSETFROM:+0200
TZOFFSETTO:+0100
TZNAME:CET
END:STANDARD
BEGIN:DAYLIGHT
DTSTART:19700329T020000
TZOFFSETFROM:+0100
TZOFFSETTO:+0200
TZNAME:CEST
END:DAYLIGHT
END:VTIMEZONE
BEGIN:VEVENT
UID:20260421T165054CEST-7817d28c80@91.233.84.75
DTSTAMP:20260421T145054Z
DESCRIPTION:mit Werken u. a. von F. Hensel\, L. Le Beau\, N. Boulanger\nLis
 a Wellisch\, KlavierKatharina Uhde\, GeigeTatjana Uhde\, Cello\n \nAls Tri
 o neu gegründet\, aber als Musikerinnen schon lange verbunden: Die beiden 
 eineiigen Zwillinge Tatjana und Katharina Uhde musizieren seit frühester K
 indheit zusammen und können mittlerweile auf eine beachtliche internationa
 le Karriere zurückblicken. Gemeinsam standen sie im Rahmen des Projekts „A
 rgerich and Friends“ mehrfach mit der legendären Pianistin Martha Argerich
  auf der Bühne. Seit 2020 gehen Tatjana Uhde und die Pianistin Lisa Wellis
 ch im Duo einer regen Konzerttätigkeit nach – 2021 erschien die erste geme
 insame CD „Märchenbilder“ beim Label ARS Produktion. Ab der nächsten Saiso
 n werden die drei Musikerinnen nun im Trio konzertieren – es erwarten Sie 
 außergewöhnliche Programme auf höchstem künstlerischen Niveau!
DTSTART:20250809T190000
DTEND:20250809T190000
GEO:+49.94286;+11.5876
LOCATION:DAS ZENTRUM\, Europasaal\, Äußere Badstraße 7a\, 95448 Bayreuth\, 
 Deutschland
SUMMARY:'Die Unerhörten' - Klaviertrios von Frauen
URL:https://www.youngartistsbayreuth.de/en/event/die-unerh%C3%B6rten-klavie
 rtrios-von-frauen-09-08-2025-19-00.html
X-APPLE-STRUCTURED-LOCATION;VALUE=URI;X-ADDRESS="Äußere Badstraße 7a, Bayre
 uth, 95448, Deutschland";X-APPLE-RADIUS=100;X-TITLE=Die Unerhörten" - Klav
 iertrios von Frauen:GEO:49.94286\,11.5876
END:VEVENT
END:VCALENDAR
