BEGIN:VCALENDAR
VERSION:2.0
PRODID:-//91.233.84.75//NONSGML kigkonsult.se iCalcreator 2.24//
CALSCALE:GREGORIAN
METHOD:PUBLISH
X-WR-TIMEZONE:Europe/Berlin
BEGIN:VTIMEZONE
TZID:Europe/Berlin
X-LIC-LOCATION:Europe/Berlin
BEGIN:STANDARD
DTSTART:19701025T030000
TZOFFSETFROM:+0200
TZOFFSETTO:+0100
TZNAME:CET
END:STANDARD
BEGIN:DAYLIGHT
DTSTART:19700329T020000
TZOFFSETFROM:+0100
TZOFFSETTO:+0200
TZNAME:CEST
END:DAYLIGHT
END:VTIMEZONE
BEGIN:VEVENT
UID:20260421T150306CEST-4377e24045@91.233.84.75
DTSTAMP:20260421T130306Z
DESCRIPTION:Musikalisch-tänzerisches Gesamtkunstwerk mit G. F. Händels und 
 C. Monteverdis Dixit Dominus und einer Uraufführung von F. Schwenks Clemen
 s Dominus et iustus.\nTänzer:innen\, Solist:innen\, Chor und Orchester des
  73. Festival junger Künstler Bayreuth\nMusikalische Leitung: Fred Sjöberg
DTSTART:20230815T170000
DTEND:20230815T170000
GEO:+49.786969;+11.82031
LOCATION:Klosterkirche Maria Immaculata\, Klosterhof\, 92676 Speinshart\, D
 eutschland
SUMMARY:Dixit Dominus!
URL:https://www.youngartistsbayreuth.de/de/veranstaltung/dixit-dominus-15-0
 8-2023-17-00.html
X-APPLE-STRUCTURED-LOCATION;VALUE=URI;X-ADDRESS="Klosterhof, Speinshart, 92
 676, Deutschland";X-APPLE-RADIUS=100;X-TITLE=Dixit Dominus!:GEO:49.7869694
 \,11.8203095
END:VEVENT
END:VCALENDAR
