BEGIN:VCALENDAR
VERSION:2.0
PRODID:-//91.233.84.75//NONSGML kigkonsult.se iCalcreator 2.24//
CALSCALE:GREGORIAN
METHOD:PUBLISH
X-WR-TIMEZONE:Europe/Berlin
BEGIN:VTIMEZONE
TZID:Europe/Berlin
X-LIC-LOCATION:Europe/Berlin
BEGIN:STANDARD
DTSTART:19701025T030000
TZOFFSETFROM:+0200
TZOFFSETTO:+0100
TZNAME:CET
END:STANDARD
BEGIN:DAYLIGHT
DTSTART:19700329T020000
TZOFFSETFROM:+0100
TZOFFSETTO:+0200
TZNAME:CEST
END:DAYLIGHT
END:VTIMEZONE
BEGIN:VEVENT
UID:20260421T164021CEST-3159daa8c1@91.233.84.75
DTSTAMP:20260421T144021Z
DESCRIPTION:Dirigierworkshop 2. Teil\nMusiker:innen des Ensembles Enigma Cl
 assica\nLeitung: Anna Handler
DTSTART:20210803T100000
DTEND:20210803T130000
GEO:+49.94286;+11.5876
LOCATION:DAS ZENTRUM\, Äußere Badstraße 7a\, 95448 Bayreuth\, Deutschland
SUMMARY:Education-Projekt: Den Klang in den Händen halten...
URL:https://www.youngartistsbayreuth.de/en/event/education-projekt-den-klan
 g-in-den-h%C3%A4nden-halten-03-08-2021-10-00.html
X-APPLE-STRUCTURED-LOCATION;VALUE=URI;X-ADDRESS="Äußere Badstraße 7a, Bayre
 uth, 95448, Deutschland";X-APPLE-RADIUS=100;X-TITLE="Education-Projekt: De
 n Klang in den Händen halten...":GEO:49.94286\,11.5876
END:VEVENT
END:VCALENDAR
