BEGIN:VCALENDAR
VERSION:2.0
PRODID:-//91.233.84.75//NONSGML kigkonsult.se iCalcreator 2.24//
CALSCALE:GREGORIAN
METHOD:PUBLISH
X-WR-TIMEZONE:Europe/Berlin
BEGIN:VTIMEZONE
TZID:Europe/Berlin
X-LIC-LOCATION:Europe/Berlin
BEGIN:STANDARD
DTSTART:19701025T030000
TZOFFSETFROM:+0200
TZOFFSETTO:+0100
TZNAME:CET
END:STANDARD
BEGIN:DAYLIGHT
DTSTART:19700329T020000
TZOFFSETFROM:+0100
TZOFFSETTO:+0200
TZNAME:CEST
END:DAYLIGHT
END:VTIMEZONE
BEGIN:VEVENT
UID:20260421T150205CEST-07833b178b@91.233.84.75
DTSTAMP:20260421T130205Z
DESCRIPTION:in Kooperation mit Treff e. V.
DTSTART:20210812T160000
DTEND:20210812T160000
GEO:+49.938027;+11.561047
LOCATION:Menzelplatz &#40\;Open Air&#41\;\, Menzelplatz 8\, 95447 Bayreuth\
 , Deutschland
SUMMARY:Education-Projekt: Trommeln für Groß und Klein
URL:https://www.youngartistsbayreuth.de/de/veranstaltung/education-projekt-
 trommeln-f%C3%BCr-gro%C3%9F-und-klein-12-08-2021-16-00.html
X-APPLE-STRUCTURED-LOCATION;VALUE=URI;X-ADDRESS="Menzelplatz 8, Bayreuth, 9
 5447, Deutschland";X-APPLE-RADIUS=100;X-TITLE="Education-Projekt: Trommeln
  für Groß und Klein":GEO:49.9380270620684\,11.561046806527438
END:VEVENT
END:VCALENDAR
