BEGIN:VCALENDAR
VERSION:2.0
PRODID:-//91.233.84.75//NONSGML kigkonsult.se iCalcreator 2.24//
CALSCALE:GREGORIAN
METHOD:PUBLISH
X-WR-TIMEZONE:Europe/Berlin
BEGIN:VTIMEZONE
TZID:Europe/Berlin
X-LIC-LOCATION:Europe/Berlin
BEGIN:STANDARD
DTSTART:19701025T030000
TZOFFSETFROM:+0200
TZOFFSETTO:+0100
TZNAME:CET
END:STANDARD
BEGIN:DAYLIGHT
DTSTART:19700329T020000
TZOFFSETFROM:+0100
TZOFFSETTO:+0200
TZNAME:CEST
END:DAYLIGHT
END:VTIMEZONE
BEGIN:VEVENT
UID:20260421T164015CEST-815376224d@91.233.84.75
DTSTAMP:20260421T144015Z
DESCRIPTION:Leitung: Lucrezia Basualdo\, Charlie Stolzenberger
DTSTART:20230804T090000
DTEND:20230804T160000
GEO:+49.94286;+11.5876
LOCATION:DAS ZENTRUM\, Äußere Badstraße 7a\, 95448 Bayreuth\, Deutschland
SUMMARY:Education-Workshop 2: Szenische Phantasien über Rachmaninows Sinfon
 ische Tänze
URL:https://www.youngartistsbayreuth.de/en/event/education-workshop-2-szeni
 sche-phantasien-%C3%BCber-rachmaninows-04-08-2023-09-00.html
X-APPLE-STRUCTURED-LOCATION;VALUE=URI;X-ADDRESS="Äußere Badstraße 7a, Bayre
 uth, 95448, Deutschland";X-APPLE-RADIUS=100;X-TITLE="Education-Workshop 2:
  Szenische Phantasien über Rachmaninows Sinfonische Tänze":GEO:49.94286\,1
 1.5876
END:VEVENT
END:VCALENDAR
