BEGIN:VCALENDAR
VERSION:2.0
PRODID:-//91.233.84.75//NONSGML kigkonsult.se iCalcreator 2.24//
CALSCALE:GREGORIAN
METHOD:PUBLISH
X-WR-TIMEZONE:Europe/Berlin
BEGIN:VTIMEZONE
TZID:Europe/Berlin
X-LIC-LOCATION:Europe/Berlin
BEGIN:STANDARD
DTSTART:19701025T030000
TZOFFSETFROM:+0200
TZOFFSETTO:+0100
TZNAME:CET
END:STANDARD
BEGIN:DAYLIGHT
DTSTART:19700329T020000
TZOFFSETFROM:+0100
TZOFFSETTO:+0200
TZNAME:CEST
END:DAYLIGHT
END:VTIMEZONE
BEGIN:VEVENT
UID:20260421T164914CEST-6671b6c7cb@91.233.84.75
DTSTAMP:20260421T144914Z
DESCRIPTION:Trommeln und 'Body Percussion'\nLeitung: Prof. Cornelia Monske 
 und EnsembleDr. h. c. Sissy ThammerDipl.-Päd. Dolores Longares-Bäumler\nGe
 fördert durch: Brigitte Merk-Erbe-Stiftung.
DTSTART:20230817T160000
DTEND:20230817T160000
GEO:+49.938027;+11.561047
LOCATION:Menzelplatz &#40\;Open Air&#41\;\, Menzelplatz 8\, 95447 Bayreuth\
 , Deutschland
SUMMARY:Education-Workshop 3: Trommelfeuer und Body Percussion!
URL:https://www.youngartistsbayreuth.de/en/event/education-workshop-3-tromm
 elfeuer-und-body-percussion-17-08-2023-16-00.html
X-APPLE-STRUCTURED-LOCATION;VALUE=URI;X-ADDRESS="Menzelplatz 8, Bayreuth, 9
 5447, Deutschland";X-APPLE-RADIUS=100;X-TITLE="Education-Workshop 3: Tromm
 elfeuer und Body Percussion!":GEO:49.9380270620684\,11.561046806527438
END:VEVENT
END:VCALENDAR
