BEGIN:VCALENDAR
VERSION:2.0
PRODID:-//91.233.84.75//NONSGML kigkonsult.se iCalcreator 2.24//
CALSCALE:GREGORIAN
METHOD:PUBLISH
X-WR-TIMEZONE:Europe/Berlin
BEGIN:VTIMEZONE
TZID:Europe/Berlin
X-LIC-LOCATION:Europe/Berlin
BEGIN:STANDARD
DTSTART:19701025T030000
TZOFFSETFROM:+0200
TZOFFSETTO:+0100
TZNAME:CET
END:STANDARD
BEGIN:DAYLIGHT
DTSTART:19700329T020000
TZOFFSETFROM:+0100
TZOFFSETTO:+0200
TZNAME:CEST
END:DAYLIGHT
END:VTIMEZONE
BEGIN:VEVENT
UID:20260421T150332CEST-6837025d80@91.233.84.75
DTSTAMP:20260421T130332Z
DESCRIPTION:Mit berühmten Filmmusiken u.a. aus „Der Zauberer von Oz\, Skyfa
 ll\, Saving Private Ryan\, Sister Act 2' und einem „ABBA-Medley“ zeigt sic
 h der große Festivalchor einmal von seiner ganz anderen\, dem breiten Publ
 ikum zugewandten Seite. Die Filmmusikarrangments werden von einer 8-köpfig
 en jugendlichen Combo begleitet.\nEin Konzert des 75. Festival junger Küns
 tler Bayreuth.
DTSTART:20250808T190000
DTEND:20250808T190000
GEO:+49.94286;+11.5876
LOCATION:DAS ZENTRUM\, Europasaal\, Äußere Badstraße 7a\, 95448 Bayreuth\, 
 Deutschland
SUMMARY:„Eine Millionen Träume…'
URL:https://www.youngartistsbayreuth.de/de/veranstaltung/eine-millionen-tr%
 C3%A4ume-28-07-2025-16-41.html
X-APPLE-STRUCTURED-LOCATION;VALUE=URI;X-ADDRESS="Äußere Badstraße 7a, Bayre
 uth, 95448, Deutschland";X-APPLE-RADIUS=100;X-TITLE=„Eine Millionen Träume
 …:GEO:49.94286\,11.5876
END:VEVENT
END:VCALENDAR
