BEGIN:VCALENDAR
VERSION:2.0
PRODID:-//91.233.84.75//NONSGML kigkonsult.se iCalcreator 2.24//
CALSCALE:GREGORIAN
METHOD:PUBLISH
X-WR-TIMEZONE:Europe/Berlin
BEGIN:VTIMEZONE
TZID:Europe/Berlin
X-LIC-LOCATION:Europe/Berlin
BEGIN:STANDARD
DTSTART:19701025T030000
TZOFFSETFROM:+0200
TZOFFSETTO:+0100
TZNAME:CET
END:STANDARD
BEGIN:DAYLIGHT
DTSTART:19700329T020000
TZOFFSETFROM:+0100
TZOFFSETTO:+0200
TZNAME:CEST
END:DAYLIGHT
END:VTIMEZONE
BEGIN:VEVENT
UID:20260421T163743CEST-401542511a@91.233.84.75
DTSTAMP:20260421T143743Z
DESCRIPTION:Dr. Thomas Rösch\, Direktor Carl Orff Zentrum München und der K
 omponist Fredrik Schwenk über den gefesselten und entfesselten Prometheus
DTSTART:20210813T180000
DTEND:20210813T180000
GEO:+49.94286;+11.5876
LOCATION:DAS ZENTRUM\, Terrasse\, Äußere Badstraße 7a\, 95448 Bayreuth\, De
 utschland
SUMMARY:Einführung zu Mythos Prometheus
URL:https://www.youngartistsbayreuth.de/en/event/einf%C3%BChrung-zu-mythos-
 prometheus-13-08-2021-18-00.html
X-APPLE-STRUCTURED-LOCATION;VALUE=URI;X-ADDRESS="Äußere Badstraße 7a, Bayre
 uth, 95448, Deutschland";X-APPLE-RADIUS=100;X-TITLE=Einführung zu Mythos P
 rometheus:GEO:49.94286\,11.5876
END:VEVENT
END:VCALENDAR
