BEGIN:VCALENDAR
VERSION:2.0
PRODID:-//91.233.84.75//NONSGML kigkonsult.se iCalcreator 2.24//
CALSCALE:GREGORIAN
METHOD:PUBLISH
X-WR-TIMEZONE:Europe/Berlin
BEGIN:VTIMEZONE
TZID:Europe/Berlin
X-LIC-LOCATION:Europe/Berlin
BEGIN:STANDARD
DTSTART:19701025T030000
TZOFFSETFROM:+0200
TZOFFSETTO:+0100
TZNAME:CET
END:STANDARD
BEGIN:DAYLIGHT
DTSTART:19700329T020000
TZOFFSETFROM:+0100
TZOFFSETTO:+0200
TZNAME:CEST
END:DAYLIGHT
END:VTIMEZONE
BEGIN:VEVENT
UID:20260421T145321CEST-4209fa7343@91.233.84.75
DTSTAMP:20260421T125321Z
DESCRIPTION:Werke von L. v. Beethoven und G. Klein\nStreichtrio des 71. Fes
 tival junger Künstler Bayreuth
DTSTART:20210805T190000
DTEND:20210805T190000
GEO:+49.96733;+11.53111
LOCATION:Versöhnungskirche\, Bayreuther Straße 6\, 95500 Heinersreuth\, Deu
 tschland
SUMMARY:Emotion!
URL:https://www.youngartistsbayreuth.de/de/veranstaltung/emotion-05-08-2021
 -19-00.html
X-APPLE-STRUCTURED-LOCATION;VALUE=URI;X-ADDRESS="Bayreuther Straße 6, Heine
 rsreuth, 95500, Deutschland";X-APPLE-RADIUS=100;X-TITLE=Emotion!:GEO:49.96
 733\,11.53111
END:VEVENT
END:VCALENDAR
