BEGIN:VCALENDAR
VERSION:2.0
PRODID:-//91.233.84.75//NONSGML kigkonsult.se iCalcreator 2.24//
CALSCALE:GREGORIAN
METHOD:PUBLISH
X-WR-TIMEZONE:Europe/Berlin
BEGIN:VTIMEZONE
TZID:Europe/Berlin
X-LIC-LOCATION:Europe/Berlin
BEGIN:STANDARD
DTSTART:19701025T030000
TZOFFSETFROM:+0200
TZOFFSETTO:+0100
TZNAME:CET
END:STANDARD
BEGIN:DAYLIGHT
DTSTART:19700329T020000
TZOFFSETFROM:+0100
TZOFFSETTO:+0200
TZNAME:CEST
END:DAYLIGHT
END:VTIMEZONE
BEGIN:VEVENT
UID:20260421T164925CEST-671274f20f@91.233.84.75
DTSTAMP:20260421T144925Z
DESCRIPTION:Kammerorchester der Bayerischen Polizei spielt für junge Künstl
 er\n„Endlich wieder live. Hoffnungsvolle Klangperspektiven“ heißt das Mott
 o\, mit dem das Kammerorchester des Polizeiorchesters Bayern am Sonntag\, 
 4. Juli 2021\, in der Stadtkirche Bayreuth zwei Benefizkonzerte jeweils um
  16 und um 19 Uhr zugunsten junger Künstler spielt. Generalmusikdirektor u
 nd Chefdirigent Professor Johann Mösenbichler präsentiert hier wunderbare 
 Solisten an Trompete\, Posaune und Horn ergänzt von klanggewaltigen\, aber
  auch von klangsensiblen Kompositionen.\nInformationen    Programm    Prog
 rammfolder\nKarten gibt in der Theaterkasse Bayreuth und an den Abendkasse
 n.
DTSTART:20210704T190000
DTEND:20210704T190000
GEO:+49.943155;+11.574541
LOCATION:Stadtkirche Heilig Dreifaltigkeit\, Kirchplatz 1\, 95444 Bayreuth\
 , Deutschland
SUMMARY:Endlich wieder live. Hoffnungsvolle Klangperspektiven
URL:https://www.youngartistsbayreuth.de/en/event/endlich-wieder-live-hoffnu
 ngsvolle-klangperspektiven-20-06-2021-19-12.html
X-APPLE-STRUCTURED-LOCATION;VALUE=URI;X-ADDRESS="Kirchplatz 1, Bayreuth, 95
 444, Deutschland";X-APPLE-RADIUS=100;X-TITLE=Endlich wieder live. Hoffnung
 svolle Klangperspektiven:GEO:49.9431552\,11.5745409
END:VEVENT
END:VCALENDAR
