BEGIN:VCALENDAR
VERSION:2.0
PRODID:-//91.233.84.75//NONSGML kigkonsult.se iCalcreator 2.24//
CALSCALE:GREGORIAN
METHOD:PUBLISH
X-WR-TIMEZONE:Europe/Berlin
BEGIN:VTIMEZONE
TZID:Europe/Berlin
X-LIC-LOCATION:Europe/Berlin
BEGIN:STANDARD
DTSTART:19701025T030000
TZOFFSETFROM:+0200
TZOFFSETTO:+0100
TZNAME:CET
END:STANDARD
BEGIN:DAYLIGHT
DTSTART:19700329T020000
TZOFFSETFROM:+0100
TZOFFSETTO:+0200
TZNAME:CEST
END:DAYLIGHT
END:VTIMEZONE
BEGIN:VEVENT
UID:20260421T164043CEST-4116d51d29@91.233.84.75
DTSTAMP:20260421T144043Z
DESCRIPTION:Ein Gesprächskonzert mit Daniel Marx\, Gitarre
DTSTART:20210811T110000
DTEND:20210811T110000
GEO:+49.94286;+11.5876
LOCATION:DAS ZENTRUM\, Kultursalon\, Äußere Badstraße 7a\, 95448 Bayreuth\,
  Deutschland
SUMMARY:Entdeckung: der fränkische Komponist Adam Darr (1811-1866)
URL:https://www.youngartistsbayreuth.de/en/event/entdeckung-der-fr%C3%A4nki
 sche-komponist-adam-darr-1811-1866-11-08-2021-11-00.html
X-APPLE-STRUCTURED-LOCATION;VALUE=URI;X-ADDRESS="Äußere Badstraße 7a, Bayre
 uth, 95448, Deutschland";X-APPLE-RADIUS=100;X-TITLE="Entdeckung: der fränk
 ische Komponist Adam Darr (1811-1866)":GEO:49.94286\,11.5876
END:VEVENT
END:VCALENDAR
