BEGIN:VCALENDAR
VERSION:2.0
PRODID:-//91.233.84.75//NONSGML kigkonsult.se iCalcreator 2.24//
CALSCALE:GREGORIAN
METHOD:PUBLISH
X-WR-TIMEZONE:Europe/Berlin
BEGIN:VTIMEZONE
TZID:Europe/Berlin
X-LIC-LOCATION:Europe/Berlin
BEGIN:STANDARD
DTSTART:19701025T030000
TZOFFSETFROM:+0200
TZOFFSETTO:+0100
TZNAME:CET
END:STANDARD
BEGIN:DAYLIGHT
DTSTART:19700329T020000
TZOFFSETFROM:+0100
TZOFFSETTO:+0200
TZNAME:CEST
END:DAYLIGHT
END:VTIMEZONE
BEGIN:VEVENT
UID:20260421T165055CEST-8825d433e4@91.233.84.75
DTSTAMP:20260421T145055Z
DESCRIPTION:Kammerchor\, Mazedonische Universität Thessaloniki Kammerchor\,
  Gheorge Dima Universität Cluj-NapocaFred Sjöberg\, Gesamtleitung\n \nDer 
 Kammerchor der Mazedonischen Universität in Thessaloniki unter der Leitung
  von Maria Emma Meligopoulou und der Kammerchor der Gheorge Dima Universit
 ät Cluj-Napoca unter der Leitung von Cornel Groza verbinden sich zu einem 
 großen Gemeinschaftsprojekt\, um geistliche und weltliche Chormusik aus dr
 ei Kontinenten und drei Jahrhunderten präsentieren zu können.Neben bekannt
 en Komponisten aus verschiedenen europäischen Ländern\, darunter Sven-Davi
 d Sandström und Enrico Bossi\, erklingen Werke des Amerikaners Eric Whitac
 re\, einem der bedeutendsten zeitgenössischen Komponisten für Chormusik\, 
 und ein Werk des Tangokönigs aus Argentinien\, Astor Piazolla. Aber auch u
 nbekanntere Werke\, wie „Stars“ von Daniel Berg\, gelangen erstmals in Bay
 reuth zur Aufführung. NebenA-Capella-Chorstückenn kommen auch die traditio
 nelle Orgel\, ein Fender-Road-Keyboard und ein Marimbaphon als Begleitinst
 rumente zum Einsatz.
DTSTART:20250810T190000
DTEND:20250810T190000
GEO:+49.943155;+11.574541
LOCATION:Stadtkirche Heilig Dreifaltigkeit\, Kirchplatz 1\, 95444 Bayreuth\
 , Deutschland
SUMMARY:'Epochal' - Festliches Konzert mit Musiken aus drei Jahrhunderten
URL:https://www.youngartistsbayreuth.de/en/event/epochal-festliches-konzert
 -mit-musiken-aus-drei-10-08-2025-19-00.html
X-APPLE-STRUCTURED-LOCATION;VALUE=URI;X-ADDRESS="Kirchplatz 1, Bayreuth, 95
 444, Deutschland";X-APPLE-RADIUS=100;X-TITLE=Epochal" - Festliches Konzert
  mit Musiken aus drei Jahrhunderten:GEO:49.9431552\,11.5745409
END:VEVENT
END:VCALENDAR
