BEGIN:VCALENDAR
VERSION:2.0
PRODID:-//91.233.84.75//NONSGML kigkonsult.se iCalcreator 2.24//
CALSCALE:GREGORIAN
METHOD:PUBLISH
X-WR-TIMEZONE:Europe/Berlin
BEGIN:VTIMEZONE
TZID:Europe/Berlin
X-LIC-LOCATION:Europe/Berlin
BEGIN:STANDARD
DTSTART:19701025T030000
TZOFFSETFROM:+0200
TZOFFSETTO:+0100
TZNAME:CET
END:STANDARD
BEGIN:DAYLIGHT
DTSTART:19700329T020000
TZOFFSETFROM:+0100
TZOFFSETTO:+0200
TZNAME:CEST
END:DAYLIGHT
END:VTIMEZONE
BEGIN:VEVENT
UID:20260421T165055CEST-6784efaa02@91.233.84.75
DTSTAMP:20260421T145055Z
DESCRIPTION:Neben bekannten Komponisten aus verschiedenen europäischen Länd
 ern\, darunter Sven-David Sandström und Enrico Bossi\, erklingen Werke des
  Amerikaners Eric Whitacre\, einem der bedeutendsten zeitgenössischen Komp
 onisten für Chormusik und ein Werk des Tangokönigs aus Argentinien\, Astor
  Piazolla. Aber auch unbekanntere Werke\, wie “Stars” von Daniel Berg gela
 ngen erstmals beim 75. Festival junger Künstler Bayreuth zur Aufführung. N
 eben A-Cappella-Chorstücken kommen auch die traditionelle Orgel\, ein Fend
 er-Road-Keyboard und ein Marimbaphon als Begleitinstrumente zum Einsatz.\n
 Künstlerische Leitung: Fred Sjöberg\nEin Konzert des 75. Festival junger K
 ünstler Bayreuth.
DTSTART:20250812T190000
DTEND:20250812T190000
GEO:+49.786969;+11.82031
LOCATION:Klosterkirche Maria Immaculata\, Klosterhof\, 92676 Speinshart\, D
 eutschland
SUMMARY:„Epochal“ - Festliches Konzert mit Musiken aus drei Jahrhunderten.
URL:https://www.youngartistsbayreuth.de/en/event/epochal-festliches-konzert
 -mit-musiken-aus-drei-12-08-2025-19-00.html
X-APPLE-STRUCTURED-LOCATION;VALUE=URI;X-ADDRESS="Klosterhof, Speinshart, 92
 676, Deutschland";X-APPLE-RADIUS=100;X-TITLE=„Epochal“ - Festliches Konzer
 t mit Musiken aus drei Jahrhunderten.:GEO:49.7869694\,11.8203095
END:VEVENT
END:VCALENDAR
