BEGIN:VCALENDAR
VERSION:2.0
PRODID:-//91.233.84.75//NONSGML kigkonsult.se iCalcreator 2.24//
CALSCALE:GREGORIAN
METHOD:PUBLISH
X-WR-TIMEZONE:Europe/Berlin
BEGIN:VTIMEZONE
TZID:Europe/Berlin
X-LIC-LOCATION:Europe/Berlin
BEGIN:STANDARD
DTSTART:19701025T030000
TZOFFSETFROM:+0200
TZOFFSETTO:+0100
TZNAME:CET
END:STANDARD
BEGIN:DAYLIGHT
DTSTART:19700329T020000
TZOFFSETFROM:+0100
TZOFFSETTO:+0200
TZNAME:CEST
END:DAYLIGHT
END:VTIMEZONE
BEGIN:VEVENT
UID:20260421T150307CEST-6975cd4d68@91.233.84.75
DTSTAMP:20260421T130307Z
DESCRIPTION:Heitere Klaviermusiken\nKlavierduo VooDoo: Vuk Božilović und Du
 šan Grozdanović\, im Rahmen des 73. Festival junger Künstler Bayreuth
DTSTART:20230812T200000
DTEND:20230812T200000
GEO:+49.99474;+11.784584
LOCATION:Evangelische Dreifaltigkeitskirche\, Kirchweg 19\, 95485 Warmenste
 inach\, Deutschland
SUMMARY:Euphoria!
URL:https://www.youngartistsbayreuth.de/de/veranstaltung/euphoria-12-08-202
 3-20-00.html
X-APPLE-STRUCTURED-LOCATION;VALUE=URI;X-ADDRESS="Kirchweg 19, Warmensteinac
 h, 95485, Deutschland";X-APPLE-RADIUS=100;X-TITLE=Euphoria!:GEO:49.9947401
 \,11.7845842
END:VEVENT
END:VCALENDAR
