BEGIN:VCALENDAR
VERSION:2.0
PRODID:-//91.233.84.75//NONSGML kigkonsult.se iCalcreator 2.24//
CALSCALE:GREGORIAN
METHOD:PUBLISH
X-WR-TIMEZONE:Europe/Berlin
BEGIN:VTIMEZONE
TZID:Europe/Berlin
X-LIC-LOCATION:Europe/Berlin
BEGIN:STANDARD
DTSTART:19701025T030000
TZOFFSETFROM:+0200
TZOFFSETTO:+0100
TZNAME:CET
END:STANDARD
BEGIN:DAYLIGHT
DTSTART:19700329T020000
TZOFFSETFROM:+0100
TZOFFSETTO:+0200
TZNAME:CEST
END:DAYLIGHT
END:VTIMEZONE
BEGIN:VEVENT
UID:20260421T164926CEST-3755d9ffa3@91.233.84.75
DTSTAMP:20260421T144926Z
DESCRIPTION:u. a. Werke von W. A. Mozart\, F. Schubert und M. Petrović\nVoo
 Doo Piano Duo\, Vuk Božilović\, Dušan Grozdanović im Rahmen des 72. Festiv
 al junger Künstler Bayreuth
DTSTART:20220818T190000
DTEND:20220818T190000
GEO:+49.960995;+11.908008
LOCATION:Mehrzwecksaal\, Max-Reger-Straße 22\, 95682 Brand\, Deutschland
SUMMARY:Euphoria. Festliches Klavierkonzert
URL:https://www.youngartistsbayreuth.de/en/event/euphoria-festliches-klavie
 rkonzert-18-08-2022-19-00.html
X-APPLE-STRUCTURED-LOCATION;VALUE=URI;X-ADDRESS="Max-Reger-Straße 22, Brand
 , 95682, Deutschland";X-APPLE-RADIUS=100;X-TITLE=Euphoria. Festliches Klav
 ierkonzert:GEO:49.9609948\,11.9080077
END:VEVENT
END:VCALENDAR
