BEGIN:VCALENDAR
VERSION:2.0
PRODID:-//91.233.84.75//NONSGML kigkonsult.se iCalcreator 2.24//
CALSCALE:GREGORIAN
METHOD:PUBLISH
X-WR-TIMEZONE:Europe/Berlin
BEGIN:VTIMEZONE
TZID:Europe/Berlin
X-LIC-LOCATION:Europe/Berlin
BEGIN:STANDARD
DTSTART:19701025T030000
TZOFFSETFROM:+0200
TZOFFSETTO:+0100
TZNAME:CET
END:STANDARD
BEGIN:DAYLIGHT
DTSTART:19700329T020000
TZOFFSETFROM:+0100
TZOFFSETTO:+0200
TZNAME:CEST
END:DAYLIGHT
END:VTIMEZONE
BEGIN:VEVENT
UID:20260421T165042CEST-9103320660@91.233.84.75
DTSTAMP:20260421T145042Z
DESCRIPTION:Christian Benning Percussion Group\nIm Rahmen des 71. Festival 
 junger Künstler Bayreuth\n \nLive-Stream 'Familienkonzert: Beathoven - Kla
 ssik auf Schlagwerk':https://www.youtube.com/watch?v=TGGmMGL51nI
DTSTART:20210816T180000
DTEND:20210816T180000
GEO:+49.946313;+11.601495
LOCATION:Seebühne in der Wilhelminenaue und im Live-Stream\, Äußere Badstra
 ße 27\, 95448 Bayreuth\, Deutschland
SUMMARY:Familienkonzert: Beathoven - Klassik auf Schlagwerk
URL:https://www.youngartistsbayreuth.de/en/event/familienkonzert-beathoven-
 klassik-auf-schlagwerk-16-08-2021-18-00.html
X-APPLE-STRUCTURED-LOCATION;VALUE=URI;X-ADDRESS="Äußere Badstraße 27, Bayre
 uth, 95448, Deutschland";X-APPLE-RADIUS=100;X-TITLE="Familienkonzert: Beat
 hoven - Klassik auf Schlagwerk":GEO:49.946313\,11.601495
END:VEVENT
END:VCALENDAR
