BEGIN:VCALENDAR
VERSION:2.0
PRODID:-//91.233.84.75//NONSGML kigkonsult.se iCalcreator 2.24//
CALSCALE:GREGORIAN
METHOD:PUBLISH
X-WR-TIMEZONE:Europe/Berlin
BEGIN:VTIMEZONE
TZID:Europe/Berlin
X-LIC-LOCATION:Europe/Berlin
BEGIN:STANDARD
DTSTART:19701025T030000
TZOFFSETFROM:+0200
TZOFFSETTO:+0100
TZNAME:CET
END:STANDARD
BEGIN:DAYLIGHT
DTSTART:19700329T020000
TZOFFSETFROM:+0100
TZOFFSETTO:+0200
TZNAME:CEST
END:DAYLIGHT
END:VTIMEZONE
BEGIN:VEVENT
UID:20260421T164700CEST-9957b258aa@91.233.84.75
DTSTAMP:20260421T144700Z
DESCRIPTION:Livia Ribeiro Silva\, Sopran\,\nAsher Baruch Reichman\, Tenor\,
 \nPaul Sturm\, Klavier\,\nIn einem bunten Reigen quer durch die Operngesch
 ichte präsentieren die Sopranistin Livia Ribeiro Silva und der Tenor Asher
  Baruch Reichman begleitet am Klavier von Paul Sturm berühmte Arien aus Me
 isterwerken von Guiseppe Verdi\, Giacomo Puccini\, Franz Lehár\, Paul Luna
 \, Alberto Nepomuceno und Mario Lanza. \nEin Konzert des 75. Festival jung
 er Künstler Bayreuth.
DTSTART:20250809T170000
DTEND:20250809T170000
GEO:+50.4626;+12.07428
LOCATION:Salvatorkirche\, Kirchplatz 5\, 08538 Kürbitz\, Deutschland
SUMMARY:„Fest junger Stimmen“
URL:https://www.youngartistsbayreuth.de/en/event/fest-junger-stimmen-21-07-
 2025-16-18.html
X-APPLE-STRUCTURED-LOCATION;VALUE=URI;X-ADDRESS="Kirchplatz 5, Kürbitz, 085
 38, Deutschland";X-APPLE-RADIUS=100;X-TITLE=„Fest junger Stimmen“:GEO:50.4
 626\,12.07428
END:VEVENT
END:VCALENDAR
