BEGIN:VCALENDAR
VERSION:2.0
PRODID:-//91.233.84.75//NONSGML kigkonsult.se iCalcreator 2.24//
CALSCALE:GREGORIAN
METHOD:PUBLISH
X-WR-TIMEZONE:Europe/Berlin
BEGIN:VTIMEZONE
TZID:Europe/Berlin
X-LIC-LOCATION:Europe/Berlin
BEGIN:STANDARD
DTSTART:19701025T030000
TZOFFSETFROM:+0200
TZOFFSETTO:+0100
TZNAME:CET
END:STANDARD
BEGIN:DAYLIGHT
DTSTART:19700329T020000
TZOFFSETFROM:+0100
TZOFFSETTO:+0200
TZNAME:CEST
END:DAYLIGHT
END:VTIMEZONE
BEGIN:VEVENT
UID:20260421T162538CEST-916945bcf2@91.233.84.75
DTSTAMP:20260421T142538Z
DESCRIPTION:In einem bunten Reigen quer durch die Operngeschichte präsentie
 ren die Sopranistin Livia Ribeiro Silva und der Tenor Asher Baruch Reichma
 n begleitet am Klavier von Paul Sturm berühmte Arien aus Meisterwerken von
  Guiseppe Verdi\, Giacomo Puccini\, Franz Lehár\, Paul Luna\, Alberto Nepo
 muceno und Mario Lanza. \nEin Konzert des 75. Festival junger Künstler Bay
 reuth.
DTSTART:20250814T190000
DTEND:20250814T190000
GEO:+49.960995;+11.908008
LOCATION:Mehrzwecksaal\, Max-Reger-Straße 22\, 95682 Brand\, Deutschland
SUMMARY:„Fest junger Stimmen“
URL:https://www.youngartistsbayreuth.de/en/event/fest-junger-stimmen-21-07-
 2025-16-22.html
X-APPLE-STRUCTURED-LOCATION;VALUE=URI;X-ADDRESS="Max-Reger-Straße 22, Brand
 , 95682, Deutschland";X-APPLE-RADIUS=100;X-TITLE=„Fest junger Stimmen“:GEO
 :49.9609948\,11.9080077
END:VEVENT
END:VCALENDAR
