BEGIN:VCALENDAR
VERSION:2.0
PRODID:-//91.233.84.75//NONSGML kigkonsult.se iCalcreator 2.24//
CALSCALE:GREGORIAN
METHOD:PUBLISH
X-WR-TIMEZONE:Europe/Berlin
BEGIN:VTIMEZONE
TZID:Europe/Berlin
X-LIC-LOCATION:Europe/Berlin
BEGIN:STANDARD
DTSTART:19701025T030000
TZOFFSETFROM:+0200
TZOFFSETTO:+0100
TZNAME:CET
END:STANDARD
BEGIN:DAYLIGHT
DTSTART:19700329T020000
TZOFFSETFROM:+0100
TZOFFSETTO:+0200
TZNAME:CEST
END:DAYLIGHT
END:VTIMEZONE
BEGIN:VEVENT
UID:20260421T162538CEST-7082190703@91.233.84.75
DTSTAMP:20260421T142538Z
DESCRIPTION:In einem bunten Reigen quer durch die Operngeschichte präsentie
 ren die Sopranistin Livia Ribeiro Silva und der Tenor Asher Baruch Reichma
 n begleitet am Klavier von Paul Sturm berühmte Arien aus Meisterwerken von
  Guiseppe Verdi\, Giacomo Puccini\, Franz Lehár\, Paul Luna\, Alberto Nepo
 muceno und Mario Lanza.\nEin Konzert des 75. Festival junger Künstler Bayr
 euth.
DTSTART:20250816T190000
DTEND:20250816T190000
GEO:+50.06432;+11.588753
LOCATION:Ev. Stiftskirche\, Klosterberg 8\, 95502 Himmelkron\, Deutschland
SUMMARY:„Fest junger Stimmen“
URL:https://www.youngartistsbayreuth.de/en/event/fest-junger-stimmen-28-07-
 2025-17-19.html
X-APPLE-STRUCTURED-LOCATION;VALUE=URI;X-ADDRESS="Klosterberg 8, Himmelkron,
  95502, Deutschland";X-APPLE-RADIUS=100;X-TITLE=„Fest junger Stimmen“:GEO:
 50.0643195\,11.5887527
END:VEVENT
END:VCALENDAR
